BEGIN:VCALENDAR
VERSION:2.0
PRODID:-//ChamberMaster//Event Calendar 2.0//EN
METHOD:PUBLISH
X-PUBLISHED-TTL:P3D
REFRESH-INTERVAL:P3D
CALSCALE:GREGORIAN
BEGIN:VEVENT
DTSTART:20230817T130000Z
DTEND:20230817T140000Z
X-MICROSOFT-CDO-ALLDAYEVENT:FALSE
SUMMARY:Women's Mastermind
DESCRIPTION:The Women's Mastermind is a group of women professionals who meet (via zoom) to reveal\, dig deep\, find support\, help ourselves and each other through problem-solving forums\, as well as discussing various topics.  Professionalism\, wisdom and heart.  Please join us!\n\n\n\nOur mastermind groups are open to all current Rockville Chamber members.  If you are interested in being a part of this group\, we welcome new additions!  \n\n\n\nIf you are not yet a member of the GRCC and are interested in our mastermind groups\, we welcome you to learn more about our Chamber and the benefits of being a member.  Reach out and we will be glad to talk to you!
X-ALT-DESC;FMTTYPE=text/html:The Women&rsquo\;s Mastermind is a group of women professionals who meet (via zoom) to reveal\, dig deep\, find support\, help ourselves and each other through problem-solving forums\, as well as discussing various topics.&nbsp\; Professionalism\, wisdom and heart.&nbsp\; Please join us!<br />\n<br />\nOur mastermind groups are open to all current Rockville Chamber members. &nbsp\;If you are interested in being a part of this group\, we welcome new additions! &nbsp\;<br />\n<br />\nIf you are not yet a member of the GRCC and are interested in our mastermind groups\, we welcome you to learn more about our Chamber and the benefits of being a member. &nbsp\;Reach out and we will be glad to talk to you!
LOCATION:Zoom
UID:e.797.16882
SEQUENCE:3
DTSTAMP:20260422T142945Z
URL:https://business.rockvillechamber.org/events/details/women-s-mastermind-08-17-2023-16882
END:VEVENT

END:VCALENDAR
