BEGIN:VCALENDAR
VERSION:2.0
PRODID:-//ChamberMaster//Event Calendar 2.0//EN
METHOD:PUBLISH
X-PUBLISHED-TTL:P3D
REFRESH-INTERVAL:P3D
CALSCALE:GREGORIAN
BEGIN:VEVENT
DTSTART:20230615T130000Z
DTEND:20230615T140000Z
X-MICROSOFT-CDO-ALLDAYEVENT:FALSE
SUMMARY:Women's Mastermind
DESCRIPTION:The Women's Mastermind is a group of women professionals who meet (via zoom) to reveal\, dig deep\, find support\, help ourselves and each other through problem-solving forums\, as well as discussing various topics.  Professionalism\, wisdom and heart.  Please join us!
X-ALT-DESC;FMTTYPE=text/html:<span style="font-size: 14px\;"><span style="font-family: arial\;">The Women&rsquo\;s Mastermind is a group of women professionals who meet (via zoom) to reveal\, dig deep\, find support\, help ourselves and each other through problem-solving forums\, as well as discussing various topics.&nbsp\; Professionalism\, wisdom and heart.&nbsp\; Please join us!</span></span>\n<div>&nbsp\;</div>\n
LOCATION:Zoom
UID:e.797.16880
SEQUENCE:3
DTSTAMP:20260422T105522Z
URL:https://business.rockvillechamber.org/events/details/women-s-mastermind-06-15-2023-16880
END:VEVENT

END:VCALENDAR
