BEGIN:VCALENDAR
VERSION:2.0
PRODID:-//ChamberMaster//Event Calendar 2.0//EN
METHOD:PUBLISH
X-PUBLISHED-TTL:P3D
REFRESH-INTERVAL:P3D
CALSCALE:GREGORIAN
BEGIN:VEVENT
DTSTART:20230906T200000Z
DTEND:20230906T230000Z
X-MICROSOFT-CDO-ALLDAYEVENT:FALSE
SUMMARY:Wine & Dine with ABW
DESCRIPTION:ABW is teaming up with PRO and Urban Winery for a wine-and-dine networking event! \n\n \n\nWednesday\, September 6th\n\n 4-7 pm\n\nABW Silver Spring Showroom:\n\n8951 Brookville Rd\, Silver Spring\, MD 20910\n\n\n\nDid you know? Our original Silver Spring showroom has been completely remodeled and is now our Silver Spring Store + Outlet! We'd love for you to come see the new look. \n\n\n\nJoin us & enjoy delicious local wine and gourmet food such as charcuterie\, smoked salmon canapes\, and caprese skewers\, provided by Urban Winery. We also have fun games lined up and a live guitarist! \n\n \n\nRSVP today!
X-ALT-DESC;FMTTYPE=text/html:<p><span style="font-size:14px">ABW&nbsp\;is teaming&nbsp\;up with&nbsp\;<u><a href="https://www.promidatlantic.org/events/pro-womens-network/register?utm_source=website&amp\;utm_medium=eblast&amp\;utm_campaign=PRO%20Women%27s%20networking%20event&amp\;utm_content=Register%20RSVP&amp\;utm_term=Wine%20Food%20Event" target="_blank">PRO</a></u> and&nbsp\;<u><a href="https://theurbanwinery.com/?utm_source=website&amp\;utm_medium=eblast&amp\;utm_campaign=PRO%20Women%27s%20networking%20event&amp\;utm_content=Urban%20Winery%20Location&amp\;utm_term=Urban%20Winery" target="_blank">Urban Winery</a></u>&nbsp\;for a&nbsp\;wine-and-dine networking event!&nbsp\;</span><br />\n&nbsp\;</p>\n\n<p><span style="font-size:14px"><strong><span style="color:#cc3333">Wednesday\, September 6th<br />\n&nbsp\;4-7 pm<br />\nABW Silver Spring Showroom:</span><br />\n<u><a href="https://www.abwappliances.com/locations/silverspring_md.html?utm_source=website&amp\;utm_medium=eblast&amp\;utm_campaign=PRO%20Women%27s%20networking%20event&amp\;utm_content=Silver%20Spring%20Address&amp\;utm_term=ABW%20Silver%20Spring"><span style="color:#cc3333">8951 Brookville Rd\, Silver Spring\, MD 20910</span></a></u></strong></span></p>\n\n<p><br />\n<span style="font-size:14px"><strong>Did you know? </strong>Our original Silver Spring showroom has been completely remodeled and is now our Silver Spring Store + Outlet! We&#39\;d love for you to come see the new look.&nbsp\;<br />\n<br />\nJoin us &amp\; enjoy delicious&nbsp\;local&nbsp\;wine and&nbsp\;gourmet&nbsp\;food such as charcuterie\, smoked salmon canapes\, and caprese skewers\,&nbsp\;provided by Urban Winery. We also have fun games lined up and a live guitarist!&nbsp\;</span><br />\n&nbsp\;</p>\n\n<p><span style="font-size:14px"><strong><u><a href="https://www.promidatlantic.org/events/pro-womens-network/register?utm_source=website&amp\;utm_medium=eblast&amp\;utm_campaign=PRO%20Women%27s%20networking%20event&amp\;utm_content=Register%20RSVP&amp\;utm_term=Wine%20Food%20Event" target="_blank">RSVP</a></u>&nbsp\;today!</strong></span></p>\n
LOCATION:ABW Silver Spring Showroom: 8951 Brookville Rd\, Silver Spring\, MD 20910
UID:e.797.18874
SEQUENCE:3
DTSTAMP:20260422T181220Z
URL:https://business.rockvillechamber.org/events/details/wine-dine-with-abw-18874
END:VEVENT

END:VCALENDAR
