BEGIN:VCALENDAR
VERSION:2.0
PRODID:-//ChamberMaster//Event Calendar 2.0//EN
METHOD:PUBLISH
X-PUBLISHED-TTL:P3D
REFRESH-INTERVAL:P3D
CALSCALE:GREGORIAN
BEGIN:VEVENT
DTSTART:20230917T200000Z
DTEND:20230917T220000Z
X-MICROSOFT-CDO-ALLDAYEVENT:FALSE
SUMMARY:Who Cares? Exhibition and Networking Closing Event with Patricia Dubroof
DESCRIPTION:Meet the artist\, Patricia Dubroof\, and learn about her project Who Cares? painted portraits that honor each caregiver.\n\n\n\nEnjoy complimentary soft drinks and snacks\; beer and wine are available for purchase.
X-ALT-DESC;FMTTYPE=text/html:Meet the artist\, Patricia Dubroof\, and learn about her project Who Cares? painted portraits that honor each caregiver.<br />\n<br />\nEnjoy complimentary soft drinks and snacks\; beer and wine are available for purchase.
LOCATION:Riverworks at Locals Restaurant and Farm Market 19929 Fisher Avenue Poolesville\, MD 20837
UID:e.797.18870
SEQUENCE:3
DTSTAMP:20260422T162903Z
URL:https://business.rockvillechamber.org/events/details/who-cares-exhibition-and-networking-closing-event-with-patricia-dubroof-18870
END:VEVENT

END:VCALENDAR
