BEGIN:VCALENDAR
VERSION:2.0
PRODID:-//ChamberMaster//Event Calendar 2.0//EN
METHOD:PUBLISH
X-PUBLISHED-TTL:P3D
REFRESH-INTERVAL:P3D
CALSCALE:GREGORIAN
BEGIN:VEVENT
DTSTART:20250613T160000Z
DTEND:20250613T180000Z
X-MICROSOFT-CDO-ALLDAYEVENT:FALSE
SUMMARY:What’s Your Plan? (Hospice
DESCRIPTION:Join us on Steve Gurney's ProAging Noontime Zoom program with Steve Lorberbaum who will be talking with Dawn Bolton from Frederick Health Hospice. They will be discussing the how to of Hospice and we will get a chance from a family member who recently had the support of FHH through her loved ones passing.\n\n\n\n\n\nPresented by Steve Lorberbaum
X-ALT-DESC;FMTTYPE=text/html:<div>\n<div>\n<div>Join us on Steve Gurney&rsquo\;s ProAging Noontime Zoom program with Steve Lorberbaum who will be talking with Dawn Bolton from Frederick Health Hospice. They will be discussing the how to of Hospice and we will get a chance from a family member who recently had the support of FHH through her loved ones passing.</div>\n</div>\n</div>\n\n<div>\n<div>\n<h4><strong>Presented by Steve Lorberbaum</strong></h4>\n</div>\n</div>\n
LOCATION:This and all future events sponsored by Assisting Hands Home Care\, Potomac\, will be held virtually via Zoom until further notice. Please register for this event by going to our website and signing up directly through our events page\, located near the bottom left of our home page. (www.assistinghandspotomac.com ) A link will be sent to each participant on the morning of the event.
UID:e.797.25454
SEQUENCE:3
DTSTAMP:20260423T224912Z
URL:https://business.rockvillechamber.org/events/details/what-s-your-plan-hospice-25454
END:VEVENT

END:VCALENDAR
