BEGIN:VCALENDAR
VERSION:2.0
PRODID:-//ChamberMaster//Event Calendar 2.0//EN
METHOD:PUBLISH
X-PUBLISHED-TTL:P3D
REFRESH-INTERVAL:P3D
CALSCALE:GREGORIAN
BEGIN:VEVENT
DTSTART:20230811T160000Z
DTEND:20230811T161500Z
X-MICROSOFT-CDO-ALLDAYEVENT:FALSE
SUMMARY:What's Your Plan?
DESCRIPTION:This is a half-hour educational program (Zoom meeting) with Steve Lorberbaum and our expert partners in senior care. This month Kindworks founder\, Deb Land\, talks about the value of seniors helping the community through volunteerism.
X-ALT-DESC;FMTTYPE=text/html:This is a half-hour educational program (Zoom meeting) with Steve Lorberbaum and our expert partners in senior care. This month Kindworks founder\, Deb Land\, talks about the value of seniors helping the community through volunteerism.
LOCATION:This and all future events sponsored by Assisting Hands Home Care\, Potomac will be held virtually via Zoom until further notice. Please register for this event by going to our website and signing up directly through our events page\, located near the bottom left of our home page. (https://www.assistinghands.com/37/maryland/potomac/) A link will be sent to each participant the morning of the event.
UID:e.797.18836
SEQUENCE:3
DTSTAMP:20260422T142030Z
URL:https://business.rockvillechamber.org/events/details/what-s-your-plan-08-11-2023-18836
END:VEVENT

END:VCALENDAR
