BEGIN:VCALENDAR
VERSION:2.0
PRODID:-//ChamberMaster//Event Calendar 2.0//EN
METHOD:PUBLISH
X-PUBLISHED-TTL:P3D
REFRESH-INTERVAL:P3D
CALSCALE:GREGORIAN
BEGIN:VEVENT
DTSTART:20230519T160000Z
DTEND:20230519T170000Z
X-MICROSOFT-CDO-ALLDAYEVENT:FALSE
SUMMARY:What's Your Plan?
DESCRIPTION:This is a half-hour educational program (Zoom meeting) with Steve Lorberbaum and our expert partners in senior care. This month Eric Peguero will discuss Main Street PickleBall Social Hour.
X-ALT-DESC;FMTTYPE=text/html:This is a half-hour educational program (Zoom meeting) with Steve Lorberbaum and our expert partners in senior care. This month Eric Peguero will discuss Main Street PickleBall Social Hour.
LOCATION:This and all future events sponsored by Assisting Hands Home Care\, Potomac will be held virtually via Zoom until further notice. Please register for this event by going to our website and signing up directly through our events page\, located near the bottom left of our home page. (https://www.assistinghands.com/37/maryland/potomac/) A link will be sent to each participant on the morning of the event.
UID:e.797.16974
SEQUENCE:3
DTSTAMP:20260422T090239Z
URL:https://business.rockvillechamber.org/events/details/what-s-your-plan-05-19-2023-16974
END:VEVENT

END:VCALENDAR
