BEGIN:VCALENDAR
VERSION:2.0
PRODID:-//ChamberMaster//Event Calendar 2.0//EN
METHOD:PUBLISH
X-PUBLISHED-TTL:P3D
REFRESH-INTERVAL:P3D
CALSCALE:GREGORIAN
BEGIN:VEVENT
DTSTART:20230414T160000Z
DTEND:20230414T170000Z
X-MICROSOFT-CDO-ALLDAYEVENT:FALSE
SUMMARY:What's Your Plan?
DESCRIPTION:This month's conversation is with\n\nSpecial Guest Dr.  PALLAVI GOWDA\n\nYour Health and Concierge Primary Care
X-ALT-DESC;FMTTYPE=text/html:This month&#39\;s conversation is with<br />\nSpecial Guest Dr.&nbsp\; PALLAVI GOWDA<br />\nYour Health and Concierge Primary Care&nbsp\;
LOCATION:This and all future events sponsored by Assisting Hands Home Care\, Potomac will be held virtually via Zoom until further notice. Please register for this event by going to our website and signing up directly through our events page\, located near the bottom left of our home page. (https://www.assistinghands.com/37/maryland/potomac/) A link will be sent to each participant on the morning of the event.
UID:e.797.16937
SEQUENCE:3
DTSTAMP:20260422T105048Z
URL:https://business.rockvillechamber.org/events/details/what-s-your-plan-04-14-2023-16937
END:VEVENT

END:VCALENDAR
