BEGIN:VCALENDAR
VERSION:2.0
PRODID:-//ChamberMaster//Event Calendar 2.0//EN
METHOD:PUBLISH
X-PUBLISHED-TTL:P3D
REFRESH-INTERVAL:P3D
CALSCALE:GREGORIAN
BEGIN:VEVENT
DTSTART:20220114T143000Z
DTEND:20220114T150000Z
X-MICROSOFT-CDO-ALLDAYEVENT:FALSE
SUMMARY:What's Your Plan?
DESCRIPTION:What's Your Plan? Friday\, January 14\, at 9:30 am. Zoom meeting with Raphaela O'Brien as she discusses home adaptations. Raphaela is the President and Founder of AIVI Global Inc.\, a Smart Home and Business Automation Systems company.
X-ALT-DESC;FMTTYPE=text/html:&nbsp\;What&#39\;s Your Plan? Friday\, January 14\, at 9:30 am. Zoom meeting with Raphaela O&#39\;Brien as she discusses home adaptations. Raphaela is the President and Founder of AIVI Global Inc.\, a Smart Home and Business Automation Systems company.
LOCATION:This and all future events sponsored by Assisting Hands Home Care\, Potomac will be held virtually via Zoom until further notice. Please register for this event by going to our website and signing up directly through our events page\, located near the bottom left of our home page. (https://www.assistinghands.com/37/maryland/potomac/) A link will be sent to each participant on the morning of the event.
UID:e.797.16178
SEQUENCE:3
DTSTAMP:20260423T013012Z
URL:https://business.rockvillechamber.org/events/details/what-s-your-plan-01-14-2022-16178
END:VEVENT

END:VCALENDAR
