BEGIN:VCALENDAR
VERSION:2.0
PRODID:-//ChamberMaster//Event Calendar 2.0//EN
METHOD:PUBLISH
X-PUBLISHED-TTL:P3D
REFRESH-INTERVAL:P3D
CALSCALE:GREGORIAN
BEGIN:VEVENT
DTSTART:20250614T190000Z
DTEND:20250614T220000Z
X-MICROSOFT-CDO-ALLDAYEVENT:FALSE
SUMMARY:Washington Gay Men's Chorus
DESCRIPTION:
X-ALT-DESC;FMTTYPE=text/html:
LOCATION:Christ Episcopal Church Rockville\, MD
UID:e.797.25425
SEQUENCE:3
DTSTAMP:20260423T225528Z
URL:https://business.rockvillechamber.org/events/details/washington-gay-men-s-chorus-25425
END:VEVENT

END:VCALENDAR
