BEGIN:VCALENDAR
VERSION:2.0
PRODID:-//ChamberMaster//Event Calendar 2.0//EN
METHOD:PUBLISH
X-PUBLISHED-TTL:P3D
REFRESH-INTERVAL:P3D
CALSCALE:GREGORIAN
BEGIN:VEVENT
DTSTART:20250116T233000Z
DTEND:20250117T013000Z
X-MICROSOFT-CDO-ALLDAYEVENT:FALSE
SUMMARY:Wine & Wagyu Bar Fogo Event
DESCRIPTION:Join us at Bar Fogo for a unique tasting event. Sample side-by-side Wagyu Ribeye alongside Bone-in Ribeye\, perfectly paired with three glasses of the all-time favorites' Fogo Founders red wines of your choice and savory bar bites including Brazilian-style Empanadas\, Queijo Assado\, Bacon Wrapped Steak\, and more.\n\n[*Must be 21 to consume alcohol.]
X-ALT-DESC;FMTTYPE=text/html:Join us at Bar Fogo for a unique tasting event. Sample side-by-side Wagyu Ribeye alongside Bone-in Ribeye\, perfectly paired with three glasses of the all-time favorites&#39\; Fogo Founders red wines of your choice and savory bar bites including Brazilian-style Empanadas\, Queijo Assado\, Bacon Wrapped Steak\, and more.<br />\n[*Must be 21 to consume alcohol.]
LOCATION:Fogo de Ch o\, Bethesda\, MD 11600 Old Georgetown Rd. Bethesda MD\, 20852
UID:e.797.24723
SEQUENCE:3
DTSTAMP:20260423T205802Z
URL:https://business.rockvillechamber.org/events/details/wagyu-wine-bar-fogo-event-01-16-2025-24723
END:VEVENT

END:VCALENDAR
