BEGIN:VCALENDAR
VERSION:2.0
PRODID:-//ChamberMaster//Event Calendar 2.0//EN
METHOD:PUBLISH
X-PUBLISHED-TTL:P3D
REFRESH-INTERVAL:P3D
CALSCALE:GREGORIAN
BEGIN:VEVENT
DTSTART:20230413T213000Z
DTEND:20230413T223000Z
X-MICROSOFT-CDO-ALLDAYEVENT:FALSE
SUMMARY:VIRTUAL - Young Professionals Group
DESCRIPTION:"Spring Cleaning Your Mind & Soul"\n\n\n\nAs we enter Spring\, we will have the opportunity to detox and declutter our mind and soul so that we can be set up for success both professionally and personally. Learn about different techniques that can help you feel productive and healthy in the workplace and at home this Spring!\n\n\n\n\n\nJoin the GRCC Young Professionals monthly for networking and educational opportunities. The YPG group is open to all young professionals looking to grow their sphere of influence\, engage with professional development topics\, and support our Rockville community. GRCC members looking to mentor our Chamber's young professionals are welcome to attend. Contact Ethan Litvin (elitvin@seeconline.org) for sponsorship opportunities.
X-ALT-DESC;FMTTYPE=text/html:<span style="font-size:16px\;"><span style="font-family:tahoma\;">&quot\;Spring Cleaning Your Mind &amp\; Soul&quot\;<br />\n<br />\n<span style="color: rgb(34\, 34\, 34)\;">As we enter Spring\, we will have the opportunity to detox and declutter our mind and soul so that we can be set up for success both professionally and personally. Learn about different techniques that can help you feel productive and healthy in the workplace and at home this Spring!</span></span></span><br />\n<br />\n<br />\n<em><span style="font-size:11pt\;">Join the GRCC Young Professionals monthly for networking and educational opportunities. The YPG group is open to all young professionals looking to grow their sphere of influence\, engage with professional development topics\, and support our Rockville community. GRCC members looking to mentor our Chamber&rsquo\;s young professionals are welcome to attend. Contact Ethan Litvin (<a href="mailto:elitvin@seeconline.org" style="color:rgb(17\, 85\, 204)\;" target="_blank">elitvin@seeconline.org</a>) for sponsorship opportunities.</span></em>
LOCATION:ZOOM
UID:e.797.16892
SEQUENCE:3
DTSTAMP:20260422T104917Z
URL:https://business.rockvillechamber.org/events/details/virtual-young-professionals-group-16892
END:VEVENT

END:VCALENDAR
