BEGIN:VCALENDAR
VERSION:2.0
PRODID:-//ChamberMaster//Event Calendar 2.0//EN
METHOD:PUBLISH
X-PUBLISHED-TTL:P3D
REFRESH-INTERVAL:P3D
CALSCALE:GREGORIAN
BEGIN:VEVENT
DTSTART:20230419T123000Z
DTEND:20230419T133000Z
X-MICROSOFT-CDO-ALLDAYEVENT:FALSE
SUMMARY:USG 2.0
DESCRIPTION:Update on The Universities at Shady Grove 2.0 Strategic Plan.\n\n\n\nUpdate on The Universities at Shady Grove 2.0 Strategic Plan.  We will hear a presentation from Dr. Anne Khademian\, Executive Director at USG.  Light breakfast and coffee will be served.  Please register in advance.
X-ALT-DESC;FMTTYPE=text/html:Update on The Universities at Shady Grove 2.0 Strategic Plan.<br />\n<br />\n<span style="color: rgb(34\, 34\, 34)\; font-family: Arial\, Helvetica\, sans-serif\; font-size: small\;">Update on The Universities at Shady Grove 2.0 Strategic Plan.&nbsp\; We will hear a presentation from Dr. Anne Khademian\, Executive Director at USG.&nbsp\; Light breakfast and coffee will be served.&nbsp\; Please register in advance.</span>
LOCATION:Universities at Shady Grove 9636 Gudelsky Drive Rockville\, MD 20850 Please park in the Traville Gateway Garage\, off Traville Gateway Drive. The meeting will be in Building III\, Room 3241
UID:e.797.16917
SEQUENCE:3
DTSTAMP:20260422T104958Z
URL:https://business.rockvillechamber.org/events/details/usg-2-0-16917
END:VEVENT

END:VCALENDAR
