BEGIN:VCALENDAR
VERSION:2.0
PRODID:-//ChamberMaster//Event Calendar 2.0//EN
METHOD:PUBLISH
X-PUBLISHED-TTL:P3D
REFRESH-INTERVAL:P3D
CALSCALE:GREGORIAN
BEGIN:VEVENT
DTSTART:20250225T180000Z
DTEND:20250225T190000Z
X-MICROSOFT-CDO-ALLDAYEVENT:FALSE
SUMMARY:Understanding Business Finances
DESCRIPTION:Financial Strategies to Strengthen Your Business\nMaster cash flow\, financial health\, and funding strategies to navigate uncertainty and seize new business opportunities.\n\nIn this peer-to-peer interactive session\, you'll learn directly from our expert on how to:\n\n1) Manage cash flow in a challenging business environment.\n\n2) Assess the financial health of your business and evaluate the effects of an external shock like a global pandemic.\n\n3) Evaluate different funding options\, revenue streams\, and other potential pivots your business could pursue and weigh the pros and cons of each.\n\n4) Leave with an understanding of how to account for uncertainty in challenging times\, and the importance of using financial metrics to lead your business to new opportunities.\n\n\n\n \n\nGoldman Sachs 10\,000 Small Businesses is a program to help entrepreneurs create jobs and economic opportunity by providing access to education\, capital\, and business support services. The program will provide scholars with tools and practical business education to continue growing their businesses to new heights.\n\nLearn more at https://10ksbapply.com/
X-ALT-DESC;FMTTYPE=text/html:<h1 class="event-title css-0" helvetica="" neue="" style="font-size: 3.25rem\; margin-top: 0px\; margin-right: 0px\; margin-bottom: calc(var(--base-unit)*4)\; margin-left: 0px\; padding: 0px\; box-sizing: border-box\; color: rgb(30\, 10\, 60)\; font-weight: 800\; line-height: 4rem\; word-break: break-word\; font-family: "><span style="font-size:16px\;">Financial Strategies to Strengthen Your Business</span></h1>\n<span font-size:="" helvetica="" neue="" style="font-weight: 600\; box-sizing: border-box\; color: rgb(57\, 54\, 79)\; font-family: ">Master cash flow\, financial health\, and funding strategies to navigate uncertainty and seize new business opportunities.</span>\n\n<p helvetica="" neue="" style="margin: 0px\; padding: 0px\; box-sizing: border-box\; font-size: 16px\; line-height: 1.5rem\; color: rgb(111\, 114\, 135)\; font-family: ">In this peer-to-peer interactive session\, you&rsquo\;ll learn directly from our expert on how to:</p>\n\n<p helvetica="" neue="" style="margin: 0px\; padding: 10px 0px 0px\; box-sizing: border-box\; font-size: 16px\; line-height: 1.5rem\; color: rgb(111\, 114\, 135)\; font-family: ">1) Manage cash flow in a challenging business environment.</p>\n\n<p helvetica="" neue="" style="margin: 0px\; padding: 10px 0px 0px\; box-sizing: border-box\; font-size: 16px\; line-height: 1.5rem\; color: rgb(111\, 114\, 135)\; font-family: ">2) Assess the financial health of your business and evaluate the effects of an external shock like a global pandemic.</p>\n\n<p helvetica="" neue="" style="margin: 0px\; padding: 10px 0px 0px\; box-sizing: border-box\; font-size: 16px\; line-height: 1.5rem\; color: rgb(111\, 114\, 135)\; font-family: ">3) Evaluate different funding options\, revenue streams\, and other potential pivots your business could pursue and weigh the pros and cons of each.</p>\n\n<p helvetica="" neue="" style="margin: 0px\; padding: 10px 0px 0px\; box-sizing: border-box\; font-size: 16px\; line-height: 1.5rem\; color: rgb(111\, 114\, 135)\; font-family: ">4) Leave with an understanding of how to account for uncertainty in challenging times\, and the importance of using financial metrics to lead your business to new opportunities.<br />\n<br />\n&nbsp\;</p>\n\n<p style="margin: 0px\; padding: 0px\; box-sizing: border-box\; font-size: 16px\; line-height: 1.5rem\; color: rgb(111\, 114\, 135)\; font-family: &quot\;Neue Plak&quot\;\, -apple-system\, BlinkMacSystemFont\, Roboto\, &quot\;Helvetica Neue&quot\;\, Helvetica\, Tahoma\, Arial\, sans-serif\;">Goldman Sachs&nbsp\;<em style="box-sizing: border-box\; padding-top: 0px\;">10\,000 Small Businesses</em>&nbsp\;is a program to help entrepreneurs create jobs and economic opportunity by providing access to education\, capital\, and business support services. The program will provide scholars with tools and practical business education to continue growing their businesses to new heights.</p>\n\n<p style="margin: 0px\; padding: 10px 0px 0px\; box-sizing: border-box\; font-size: 16px\; line-height: 1.5rem\; color: rgb(111\, 114\, 135)\; font-family: &quot\;Neue Plak&quot\;\, -apple-system\, BlinkMacSystemFont\, Roboto\, &quot\;Helvetica Neue&quot\;\, Helvetica\, Tahoma\, Arial\, sans-serif\;">Learn more at&nbsp\;<a data-msys-clicktrack="0" href="https://10ksbapply.com/" rel="nofollow noopener noreferrer" style="background-color: transparent\; color: var(--eds-control\,#3659e3)\; box-sizing: border-box\; padding-top: 0px\;" target="_blank" title="https://10ksbapply.com/"><span style="font-weight: 700\; box-sizing: border-box\; padding-top: 0px\;">https://10ksbapply.com/</span></a></p>\n<br />\n&nbsp\;
LOCATION:Online
UID:e.797.24814
SEQUENCE:3
DTSTAMP:20260423T185443Z
URL:https://business.rockvillechamber.org/events/details/understanding-business-finances-24814
END:VEVENT

END:VCALENDAR
