BEGIN:VCALENDAR
VERSION:2.0
PRODID:-//ChamberMaster//Event Calendar 2.0//EN
METHOD:PUBLISH
X-PUBLISHED-TTL:P3D
REFRESH-INTERVAL:P3D
CALSCALE:GREGORIAN
BEGIN:VEVENT
DTSTART:20230503T000000Z
DTEND:20230503T020000Z
X-MICROSOFT-CDO-ALLDAYEVENT:FALSE
SUMMARY:Ukulele Orchestra of Great Britain
DESCRIPTION:Coming from all the way across the pond\, the Ukulele Orchestra of Great Britain reinvents entire genres with only their ukes and their voices. The small but mighty uke proves to hold its own in the hands of this virtuosic group on a journey from Tchaikovsky to Nirvana via Otis Redding and Spaghetti Western soundtracks. Using instruments small and large\, the Orchestra uses the limitations of the ukulele to embrace musical freedom and reveal unsuspected musical insights. Both the beauty and vacuity of popular and highbrow music are highlighted\, the pompous and the trivial\, the moving and the amusing. The Ukulele Orchestra of Great Britain may bring you laughter\, chills\, or even tears\, but one thing is certain: it will change the way you think about music.
X-ALT-DESC;FMTTYPE=text/html:<span style="color:rgb(66\, 66\, 67)\; font-family:lora\,times new roman\,georgia\,sans-serif\; font-size:20px">Coming from all the way across the pond\, the Ukulele Orchestra of Great Britain reinvents entire genres with only their ukes and their voices. The small but mighty uke proves to hold its own in the hands of this virtuosic group on a journey from Tchaikovsky to Nirvana via Otis Redding and Spaghetti Western soundtracks.&nbsp\;</span><span style="color:rgb(66\, 66\, 67)\; font-family:lora\,times new roman\,georgia\,sans-serif\; font-size:20px">Using instruments small and large\, the Orchestra uses the limitations of the ukulele to embrace musical freedom and reveal unsuspected musical insights. Both the beauty and vacuity of popular and highbrow music are highlighted\, the pompous and the trivial\, the moving and the amusing. The Ukulele Orchestra of Great Britain may bring you laughter\, chills\, or even tears\, but one thing is certain: it will change the way you think about music.&nbsp\;</span><span style="color:rgb(66\, 66\, 67)\; font-family:lora\,times new roman\,georgia\,sans-serif\; font-size:20px">&nbsp\;</span>
LOCATION:Strathmore
UID:e.797.16399
SEQUENCE:3
DTSTAMP:20260422T090454Z
URL:https://business.rockvillechamber.org/events/details/ukulele-orchestra-of-great-britain-16399
END:VEVENT

END:VCALENDAR
