BEGIN:VCALENDAR
VERSION:2.0
PRODID:-//ChamberMaster//Event Calendar 2.0//EN
METHOD:PUBLISH
X-PUBLISHED-TTL:P3D
REFRESH-INTERVAL:P3D
CALSCALE:GREGORIAN
BEGIN:VEVENT
DTSTART:20250529T223000Z
DTEND:20250530T003000Z
X-MICROSOFT-CDO-ALLDAYEVENT:FALSE
SUMMARY:TOMAHAWK & TEQUILA - Bar Fogo Event
DESCRIPTION:Tomahawk & Tequila Bar Event\n\n\nJoin us at Fogo de Ch o Bethesda on Thursday\, May 29th for the ultimate dry-aged and tequila tasting experience. Enjoy a bold pairing of Dry-Aged Tomahawk Ribeye and premium tequilas\, alongside Brazilian-inspired bar bites\n\nINCLUDES PREMIUM TOMAHAWK TASTING\, TWO TEQUILA & COCKTAIL PAIRINGS\, AND PASSED BAR BITES.\n\n\n\nReservations are required. Must be 21 years of age to participate.
X-ALT-DESC;FMTTYPE=text/html:<h2>Tomahawk &amp\; Tequila Bar Event</h2>\n\n<div>\n<p>Join us at&nbsp\;Fogo de Ch&atilde\;o Bethesda on Thursday\, May 29th for the ultimate dry-aged and tequila tasting experience. Enjoy a bold pairing of Dry-Aged Tomahawk Ribeye and premium tequilas\, alongside Brazilian-inspired bar bites</p>\n\n<p><span style="font-size:11px">INCLUDES PREMIUM TOMAHAWK TASTING\, TWO TEQUILA &amp\; COCKTAIL PAIRINGS\, AND PASSED BAR BITES.</span><br />\n<br />\n<span style="font-size:12px">Reservations are required. Must be 21 years of age to participate.&nbsp\;</span></p>\n</div>\n
LOCATION:Fogo de Ch o Bethesda 11600 Old Georgetown Rd\, North Bethesda\, MD 20852
UID:e.797.25428
SEQUENCE:3
DTSTAMP:20260423T205426Z
URL:https://business.rockvillechamber.org/events/details/tomahawk-tequila-bar-fogo-event-25428
END:VEVENT

END:VCALENDAR
