BEGIN:VCALENDAR
VERSION:2.0
PRODID:-//ChamberMaster//Event Calendar 2.0//EN
METHOD:PUBLISH
X-PUBLISHED-TTL:P3D
REFRESH-INTERVAL:P3D
CALSCALE:GREGORIAN
BEGIN:VEVENT
DTSTART:20250410T173000Z
DTEND:20250410T193000Z
X-MICROSOFT-CDO-ALLDAYEVENT:FALSE
SUMMARY:Thriving at Home Presentation at Sunrise at Montgomery Village
DESCRIPTION:Join Steve Lorberbaum and Nick Porter for a lively "Thriving at Home" discussion at Sunrise Montgomery Village. Learn practical tips to reduce health risks\, create a safer home\, and help prevent hospital stays. Attendees will receive a free copy of the book\, enjoy light refreshments\, and get a chance to ask questions in a friendly\, community setting.
X-ALT-DESC;FMTTYPE=text/html:Join Steve Lorberbaum and Nick Porter for a lively &ldquo\;Thriving at Home&rdquo\; discussion at Sunrise Montgomery Village. Learn practical tips to reduce health risks\, create a safer home\, and help prevent hospital stays. Attendees will receive a free copy of the book\, enjoy light refreshments\, and get a chance to ask questions in a friendly\, community setting.
LOCATION:Join Steve Lorberbaum and Nick Porter for a lively "Thriving at Home" discussion at Sunrise Montgomery Village. Learn practical tips to reduce health risks\, create a safer home\, and help prevent hospital stays. Attendees will receive a free copy of the book\, enjoy light refreshments\, and get a chance to ask questions in a friendly\, community setting.
UID:e.797.24938
SEQUENCE:3
DTSTAMP:20260423T185922Z
URL:https://business.rockvillechamber.org/events/details/thriving-at-home-presentation-at-sunrise-at-montgomery-village-24938
END:VEVENT

END:VCALENDAR
