BEGIN:VCALENDAR
VERSION:2.0
PRODID:-//ChamberMaster//Event Calendar 2.0//EN
METHOD:PUBLISH
X-PUBLISHED-TTL:P3D
REFRESH-INTERVAL:P3D
CALSCALE:GREGORIAN
BEGIN:VEVENT
DTSTART:20230907T210000Z
DTEND:20230907T223000Z
X-MICROSOFT-CDO-ALLDAYEVENT:FALSE
SUMMARY:Thrive Together: Parent-Preneurs Financial Networking Event
DESCRIPTION:Attention all service-based business parent-preneurs!\n \n\n\nAre you struggling to manage your finances while running your business and raising a family? Do you want to connect with other like-minded professionals and learn from experts in the field of finance and accounting? Then mark your calendars for the Thrive Together: Parent-Preneurs Financial Networking Event on September 7th at 5 pm!\n\nAs a fellow parent-preneur in the service-based industry\, I understand the unique challenges we face. That's why I'm excited to share this opportunity with you all. This event is the perfect chance to connect with other parent-preneurs\, learn from experts\, and gain valuable insights into managing your finances effectively.\n\nYou'll have the opportunity to hear from experts in the field of finance and accounting\, learn about tax optimization strategies\, and plan for the future of your business and family. Not only that\, but you'll also have the chance to network with other parent-preneurs who are facing similar challenges. You can share your experiences\, learn from others\, and build meaningful connections that can help you grow your business and succeed in the long term.\n\nSo don't miss out on this fantastic opportunity to thrive together with other parent-preneurs in the service-based industry. Let's support each other as we navigate the world of entrepreneurship and parenthood.
X-ALT-DESC;FMTTYPE=text/html:<span style="font-family:inter var\,ui-sans-serif\,system-ui\,-apple-system\,blinkmacsystemfont\,segoe ui\,roboto\,helvetica neue\,arial\,noto sans\,sans-serif\,apple color emoji\,segoe ui emoji\,segoe ui symbol\,noto color emoji\; font-size:18px">Attention all service-based business parent-preneurs!</span>\n<div>&nbsp\;</div>\n\n<div>\n<p>Are you struggling to manage your finances while running your business and raising a family? Do you want to connect with other like-minded professionals and learn from experts in the field of finance and accounting? Then mark your calendars for the Thrive Together: Parent-Preneurs Financial Networking Event on September 7th at 5 pm!</p>\n\n<p>As a fellow parent-preneur in the service-based industry\, I understand the unique challenges we face. That&#39\;s why I&#39\;m excited to share this opportunity with you all. This event is the perfect chance to connect with other parent-preneurs\, learn from experts\, and gain valuable insights into managing your finances effectively.</p>\n\n<p>You&#39\;ll have the opportunity to hear from experts in the field of finance and accounting\, learn about tax optimization strategies\, and plan for the future of your business and family. Not only that\, but you&#39\;ll also have the chance to network with other parent-preneurs who are facing similar challenges. You can share your experiences\, learn from others\, and build meaningful connections that can help you grow your business and succeed in the long term.</p>\n\n<p>So don&#39\;t miss out on this fantastic opportunity to thrive together with other parent-preneurs in the service-based industry. Let&#39\;s support each other as we navigate the world of entrepreneurship and parenthood.</p>\n</div>\n
LOCATION:Capital Bank Home Loans 2275 Research Boulevard #600\, Rockville\, Rockville\, Maryland - 20850 United States
UID:e.797.18898
SEQUENCE:3
DTSTAMP:20260422T162552Z
URL:https://business.rockvillechamber.org/events/details/thrive-together-parent-preneurs-financial-networking-event-18898
END:VEVENT

END:VCALENDAR
