BEGIN:VCALENDAR
VERSION:2.0
PRODID:-//ChamberMaster//Event Calendar 2.0//EN
METHOD:PUBLISH
X-PUBLISHED-TTL:P3D
REFRESH-INTERVAL:P3D
CALSCALE:GREGORIAN
BEGIN:VEVENT
DTSTART;VALUE=DATE:20230921
DTEND;VALUE=DATE:20230922
TRANSP:TRANSPARENT
X-MICROSOFT-CDO-ALLDAYEVENT:TRUE
SUMMARY:The Power of One
DESCRIPTION:The POWER OF ONE: Standing Strong Together\, Each Has a Heart and a Part \nJoin us at our first major gathering in four years for a memorable and heartfelt evening. The event will feature mix & mingle cocktail hour with great company and delicious hors d'oeuvres followed by a special presentation.  Proceeds will support families affected by domestic violence in our community.
X-ALT-DESC;FMTTYPE=text/html:<span style="font-size:14px"><strong>The POWER OF ONE: Standing Strong Together\, Each Has a Heart and a Part&nbsp\;</strong></span>\n<p>Join us at our first major gathering in four years for a memorable and heartfelt evening. The event will feature mix &amp\; mingle cocktail hour with great company and delicious hors d&#39\;oeuvres followed by a&nbsp\;special presentation.&nbsp\; Proceeds will support families affected by domestic violence in our community.</p>\n\n<p>&nbsp\;</p>\n\n<div>&nbsp\;</div>\n
LOCATION:VisArts 155 Gibbs St\, Rockville\, MD 20850
UID:e.797.18902
SEQUENCE:3
DTSTAMP:20260422T162533Z
URL:https://business.rockvillechamber.org/events/details/the-power-of-one-18902
END:VEVENT

END:VCALENDAR
