BEGIN:VCALENDAR
VERSION:2.0
PRODID:-//ChamberMaster//Event Calendar 2.0//EN
METHOD:PUBLISH
X-PUBLISHED-TTL:P3D
REFRESH-INTERVAL:P3D
CALSCALE:GREGORIAN
BEGIN:VEVENT
DTSTART:20241226T213000Z
DTEND:20241226T223000Z
X-MICROSOFT-CDO-ALLDAYEVENT:FALSE
SUMMARY:The Annual Rockville Town Center Menorah Lighting
DESCRIPTION:The annual Rockville Town Center Menorah (12 feet) Lighting will be held on Thursday\, December 26 at 131 Gibbs Street. The outdoor ceremony will start at 5:00 pm with crafts for kids in the Rockville Memorial Library at 4:30 pm.\n\n \n\nSpecial events include ice skating\, free donuts\, fire\, and juggling show\, and chocolate gelt from a fire truck.\n\n \n\nFree admission with increased security.\n\n \n\nAviva Siegel\, a former hostage\, and wife of a current hostage will share some thoughts.
X-ALT-DESC;FMTTYPE=text/html:<span style="font-size:16px\;"><span style="font-family:arial\;">The annual Rockville Town Center Menorah (12 feet) Lighting will be held on Thursday\, December 26 at&nbsp\;<a data-saferedirecturl="https://www.google.com/url?q=https://www.google.com/maps/search/131%2BGibbs%2BStreet?entry%3Dgmail%26source%3Dg&amp\;source=gmail&amp\;ust=1734802691801000&amp\;usg=AOvVaw3xXcB93DCshcDgGIiSPlBC" href="https://www.google.com/maps/search/131+Gibbs+Street?entry=gmail&amp\;source=g" style="color:rgb(17\, 85\, 204)\;cursor:pointer\;" target="_blank">131 Gibbs Street</a>. The outdoor ceremony will start at 5:00 pm with crafts for kids in the Rockville Memorial Library at 4:30 pm.<br />\n&nbsp\;<br />\nSpecial events include ice skating\, free donuts\, fire\, and juggling show\, and chocolate gelt from a fire truck.<br />\n&nbsp\;<br />\nFree admission with increased security.<br />\n&nbsp\;<br />\nAviva Siegel\, a former hostage\, and wife of a current hostage will share some thoughts.</span></span>
LOCATION:131 Gibbs Street Rockville\, MD
UID:e.797.24711
SEQUENCE:3
DTSTAMP:20260423T225840Z
URL:https://business.rockvillechamber.org/events/details/the-annual-rockville-town-center-menorah-lighting-24711
END:VEVENT

END:VCALENDAR
