BEGIN:VCALENDAR
VERSION:2.0
PRODID:-//ChamberMaster//Event Calendar 2.0//EN
METHOD:PUBLISH
X-PUBLISHED-TTL:P3D
REFRESH-INTERVAL:P3D
CALSCALE:GREGORIAN
BEGIN:VEVENT
DTSTART:20250310T190000Z
DTEND:20250310T210000Z
X-MICROSOFT-CDO-ALLDAYEVENT:FALSE
SUMMARY:Stress and Dementia Presentation
DESCRIPTION:"Stress and Dementia Presentation\n\nJoin Steve Lorberbaum for an engaging and insightful presentation with Potomac Neighborhood Village\, where he'll share expert strategies to help dementia \n\n caregivers manage stress\, build resilience\, and find balance while providing compassionate care! "
X-ALT-DESC;FMTTYPE=text/html:&quot\;Stress and Dementia Presentation<br />\nJoin Steve Lorberbaum for an engaging and insightful presentation with Potomac Neighborhood Village\, where he&#39\;ll share expert strategies to help dementia&nbsp\;<br />\n&nbsp\;caregivers manage stress\, build resilience\, and find balance while providing compassionate care! &quot\;
LOCATION:Registration Link - https://assistinghandspotomac.com/events/
UID:e.797.24826
SEQUENCE:3
DTSTAMP:20260423T132542Z
URL:https://business.rockvillechamber.org/events/details/stress-and-dementia-presentation-24826
END:VEVENT

END:VCALENDAR
