BEGIN:VCALENDAR
VERSION:2.0
PRODID:-//ChamberMaster//Event Calendar 2.0//EN
METHOD:PUBLISH
X-PUBLISHED-TTL:P3D
REFRESH-INTERVAL:P3D
CALSCALE:GREGORIAN
BEGIN:VEVENT
DTSTART:20230921T130000Z
DTEND:20230921T150000Z
X-MICROSOFT-CDO-ALLDAYEVENT:FALSE
SUMMARY:State of the City
DESCRIPTION:Mayor Bridget Donnell Newton will discuss the state of the City of Rockville\, 9-11 a.m. Thursday\, Sept. 21\, in an event hosted by the Greater Rockville Chamber of Commerce at Glenview Mansion\, 603 Edmonston Drive. Chamber public policy chair Brian Barkley will moderate.
X-ALT-DESC;FMTTYPE=text/html:<span style="color: rgb(76\, 76\, 76)\; font-family: sans-serif\; font-size: 14.4px\;">Mayor Bridget Donnell Newton will discuss the state of the City of Rockville\, 9-11 a.m. Thursday\, Sept. 21\, in an event hosted by the Greater Rockville Chamber of Commerce at Glenview Mansion\, 603 Edmonston Drive. Chamber public policy chair Brian Barkley will moderate.</span>
LOCATION:Glenview Mansion 603 Edmonston Dr Rockville\, MD 20851
UID:e.797.16993
SEQUENCE:3
DTSTAMP:20260422T162648Z
URL:https://business.rockvillechamber.org/events/details/state-of-the-city-16993
END:VEVENT

END:VCALENDAR
