BEGIN:VCALENDAR
VERSION:2.0
PRODID:-//ChamberMaster//Event Calendar 2.0//EN
METHOD:PUBLISH
X-PUBLISHED-TTL:P3D
REFRESH-INTERVAL:P3D
CALSCALE:GREGORIAN
BEGIN:VEVENT
DTSTART:20250519T193000Z
DTEND:20250519T203000Z
X-MICROSOFT-CDO-ALLDAYEVENT:FALSE
SUMMARY:State of Nonprofits Community Conversations: Collaboration
DESCRIPTION:Now that we've launched the State of Nonprofits in Montgomery County 2025 report\, it's time to take the next step turning insights into action.\n\nJoin us for our upcoming roundtable series\, where we'll take a closer look at each of the report's key recommendations and explore how we can move them forward together.\n\nEach session will feature a brief panel of local leaders\, followed by a facilitated\, solutions-oriented conversation designed to foster connection\, surface ideas\, and spark collaboration across the sector.\n\nThis session will focus on: Strengthening Collaborations with Nonprofit Organizations\n\nWe'll explore what it takes to build and sustain strong cross-sector partnerships that improve outcomes\, build trust\, and maximize resources.\n\nWhether you're a nonprofit leader\, funder\, or community partner\, your voice is essential in shaping the path ahead for Montgomery County's nonprofit ecosystem.
X-ALT-DESC;FMTTYPE=text/html:<p>Now that we&rsquo\;ve launched the <strong><a href="https://www.nonprofitmoco.org/advocacy/stateofnonprofits2025/"><em>State of Nonprofits in Montgomery County 2025</em> report</a></strong>\, it&rsquo\;s time to take the next step&mdash\;turning insights into action.</p>\n\n<p>Join us for our upcoming roundtable series\, where we&rsquo\;ll take a closer look at each of the report&rsquo\;s key recommendations and explore how we can move them forward together.</p>\n\n<p>Each session will feature a brief panel of local leaders\, followed by a facilitated\, solutions-oriented conversation designed to foster connection\, surface ideas\, and spark collaboration across the sector.</p>\n\n<p><strong>This session will focus on: Strengthening Collaborations with Nonprofit Organizations</strong><br />\nWe&rsquo\;ll explore what it takes to build and sustain strong cross-sector partnerships that improve outcomes\, build trust\, and maximize resources.</p>\n\n<p>Whether you&rsquo\;re a nonprofit leader\, funder\, or community partner\, your voice is essential in shaping the path ahead for Montgomery County&rsquo\;s nonprofit ecosystem.</p>\n
LOCATION:Where: Nonprofit Montgomery\, Launch Workspace\, 1201 Seven Locks Rd Suite 360\, Rockville\, MD 20854
UID:e.797.25386
SEQUENCE:3
DTSTAMP:20260423T205358Z
URL:https://business.rockvillechamber.org/events/details/state-of-nonprofits-community-conversations-collaboration-25386
END:VEVENT

END:VCALENDAR
