BEGIN:VCALENDAR
VERSION:2.0
PRODID:-//ChamberMaster//Event Calendar 2.0//EN
METHOD:PUBLISH
X-PUBLISHED-TTL:P3D
REFRESH-INTERVAL:P3D
CALSCALE:GREGORIAN
BEGIN:VEVENT
DTSTART:20230605T150000Z
DTEND:20230605T160000Z
X-MICROSOFT-CDO-ALLDAYEVENT:FALSE
SUMMARY:State Mandate Fireside Chat Webinar
DESCRIPTION:How are your clients preparing for looming state retirement mandates? \n\n\n\nOn June 5\, 2023\, at 11am ET\, we'll be hosting an hour-long State Mandate Fireside Chat webinar. We will be diving into legislation status and updates for Delaware\, Illinois\, Maryland & Virginia.\n\n\n\nThe webinar will consist of:\n\n\n	A brief presentation on legislation status\, program details and deadlines\, plus updates on the SECURE Act 2.0\n	A Q&A with a panel of financial experts including:\n	\n		Lea Smith - ERISA Specialist at Human Interest\n	\n	\n\n\nYou'll learn how to navigate the mandates and help eligible businesses stay compliant.
X-ALT-DESC;FMTTYPE=text/html:<p style="color: rgb(34\, 34\, 34)\; box-sizing: border-box\; font-size: 16px\; margin: 0px 0px 1.4rem\; font-family: Poppins\, sans-serif\; line-height: 1.5\;"><span style="box-sizing: border-box\;"><font color="#000000">How are your clients preparing for looming state retirement mandates?&nbsp\;<br style="box-sizing: border-box\;" />\n<br style="box-sizing: border-box\;" />\nOn June 5\, 2023\, at 11am ET\, we&rsquo\;ll be hosting an hour-long State Mandate Fireside Chat webinar. We will be diving into legislation status and updates for Delaware\, Illinois\, Maryland &amp\; Virginia.<br style="box-sizing: border-box\;" />\n<br style="box-sizing: border-box\;" />\nThe webinar will consist of:</font></span></p>\n\n<ul style="color: rgb(34\, 34\, 34)\; box-sizing: border-box\; margin: 0px 0px 1.4rem\; padding-left: 1rem\; font-family: Poppins\, sans-serif\; font-size: 16px\;">\n	<li style="box-sizing: border-box\; margin: 0.7rem\; line-height: 1.5\; text-align: left\;"><span style="box-sizing: border-box\;"><font color="#000000">A brief presentation on legislation status\, program details and deadlines\, plus updates on the SECURE Act 2.0</font></span></li>\n	<li style="box-sizing: border-box\; margin: 0.7rem\; line-height: 1.5\; text-align: left\;"><font color="#000000"><span style="box-sizing: border-box\;">A Q&amp\;A with a panel of financial experts including:</span></font>\n	<ul style="box-sizing: border-box\; margin: 1.4rem 0px\; padding-left: 1rem\;">\n		<li style="box-sizing: border-box\; margin: 0.7rem\; line-height: 1.5\; text-align: left\;"><span style="box-sizing: border-box\;"><span style="box-sizing: border-box\;"><font color="#000000">Lea Smith - ERISA Specialist at Human Interest</font></span></span></li>\n	</ul>\n	</li>\n</ul>\n\n<p style="color: rgb(34\, 34\, 34)\; box-sizing: border-box\; font-size: 16px\; margin: 0px 0px 1.4rem\; font-family: Poppins\, sans-serif\; line-height: 1.5\;"><span style="box-sizing: border-box\;"><font color="#000000">You&#39\;ll learn how to navigate the mandates and help eligible businesses stay compliant.</font></span></p>\n
LOCATION:Zoom\, please register in advance Registration link
UID:e.797.16968
SEQUENCE:3
DTSTAMP:20260422T104915Z
URL:https://business.rockvillechamber.org/events/details/state-mandate-fireside-chat-webinar-16968
END:VEVENT

END:VCALENDAR
