BEGIN:VCALENDAR
VERSION:2.0
PRODID:-//ChamberMaster//Event Calendar 2.0//EN
METHOD:PUBLISH
X-PUBLISHED-TTL:P3D
REFRESH-INTERVAL:P3D
CALSCALE:GREGORIAN
BEGIN:VEVENT
DTSTART:20230413T223000Z
DTEND:20230414T003000Z
X-MICROSOFT-CDO-ALLDAYEVENT:FALSE
SUMMARY:Spring Shake-Up Bar Fogo Event
DESCRIPTION:SPRING SHAKE-UP\n\nBAR FOGO PARTY\n\nJoin us as we shake up new cocktails at Bar Fogo. The celebration will feature a Cava sparkling toast\, passed Bar Bites and your choice of two cocktails. Choose from the classics or one of our newest Spring cocktails.\n\n$39 per person*\n\nWHEN\n\nThursday\, April 13th at 6:30 PM**\n\nRESERVATIONS\n\nClick on our Bethesda location to make a reservation for the Bar Fogo Party:\n\nBar Fogo Party - Fogo de Ch o - US (fogodechao.com)
X-ALT-DESC;FMTTYPE=text/html:<h1 style="text-align:center"><span style="font-family:masqualero-w01-black\; font-size:48px">SPRING SHAKE-UP</span></h1>\n\n<h2 style="text-align:center"><span style="font-family:avenirnext-medium\; font-size:inherit">BAR FOGO PARTY</span></h2>\n\n<h3 style="text-align:center"><span style="font-family:mrseavesxlserifot-reg\; font-size:15px">Join us as we shake up new cocktails at Bar Fogo. The celebration will feature a Cava sparkling toast\, passed Bar Bites and your choice of two cocktails. Choose from the classics or one of our newest Spring cocktails.</span></h3>\n\n<h2 style="text-align:center"><span style="font-family:inherit\; font-size:40px">$39&nbsp\;</span>per person*</h2>\n\n<p style="text-align:center"><span style="font-family:inherit\; font-size:inherit">WHEN</span></p>\n\n<p style="text-align:center">Thursday\, April 13th at 6:30 PM**</p>\n\n<p style="text-align:center"><span style="font-family:inherit\; font-size:inherit">RESERVATIONS</span></p>\n\n<p style="text-align:center">Click on our Bethesda location to make a reservation for the Bar Fogo Party:<br />\n<a href="https://fogodechao.com/cocktailevent/">Bar Fogo Party - Fogo de Ch&atilde\;o - US (fogodechao.com)</a></p>\n
LOCATION:Fogo de Chao Bethesda: 11600 Old Georgetown Rd. Bethesda\, MD 20852
UID:e.797.16932
SEQUENCE:3
DTSTAMP:20260422T105248Z
URL:https://business.rockvillechamber.org/events/details/spring-shake-up-bar-fogo-event-16932
END:VEVENT

END:VCALENDAR
