BEGIN:VCALENDAR
VERSION:2.0
PRODID:-//ChamberMaster//Event Calendar 2.0//EN
METHOD:PUBLISH
X-PUBLISHED-TTL:P3D
REFRESH-INTERVAL:P3D
CALSCALE:GREGORIAN
BEGIN:VEVENT
DTSTART:20250521T190000Z
DTEND:20250521T210000Z
X-MICROSOFT-CDO-ALLDAYEVENT:FALSE
SUMMARY:Spring Paint-N-Sip at The Seneca Rockville
DESCRIPTION:Join us! Spring Paint-N-Sip at The Seneca Rockville
X-ALT-DESC;FMTTYPE=text/html:Join us! Spring Paint-N-Sip at The Seneca Rockville&nbsp\;
LOCATION:55 W. Gude Drive Rockville\, MD 20850
UID:e.797.25431
SEQUENCE:3
DTSTAMP:20260423T205631Z
URL:https://business.rockvillechamber.org/events/details/spring-paint-n-sip-at-the-seneca-rockville-25431
END:VEVENT

END:VCALENDAR
