BEGIN:VCALENDAR
VERSION:2.0
PRODID:-//ChamberMaster//Event Calendar 2.0//EN
METHOD:PUBLISH
X-PUBLISHED-TTL:P3D
REFRESH-INTERVAL:P3D
CALSCALE:GREGORIAN
BEGIN:VEVENT
DTSTART:20250128T170000Z
DTEND:20250128T180000Z
X-MICROSOFT-CDO-ALLDAYEVENT:FALSE
SUMMARY:Spend Less / Save More - Free Webinar
DESCRIPTION:"Financial Education Program" provided Free for NIH FCU Members and Non-Members alike.\n\n \n\nThis webinar will teach attendees:  \n\n	How to prioritize expenses\n	How to reduce spending in lower priority categories\n	Creative ways to reduce spending\n	How to identify an ideal spending plan \n	And more!\n\n \n\nThis is our continuous drive to help People on their road to Financial Stability.\n\nAttendees may visit nihfcu.org/Learn to RSVP. It will be presented by our financial literacy partner\, GreenPath Financial Wellness.
X-ALT-DESC;FMTTYPE=text/html:&ldquo\;Financial Education Program&rdquo\; provided Free for NIH FCU Members and Non-Members alike.<br />\n&nbsp\;<br />\n<span style="font-family:calibri\,sans-serif"><span style="font-size:12.0pt">This webinar will teach attendees: &nbsp\;</span></span>\n<ol>\n	<li><span style="font-family:calibri\,sans-serif"><span style="font-size:12.0pt">How to prioritize expenses</span></span></li>\n	<li><span style="font-family:calibri\,sans-serif"><span style="font-size:12.0pt">How to reduce spending in lower priority categories</span></span></li>\n	<li><span style="font-family:calibri\,sans-serif"><span style="font-size:12.0pt">Creative ways to reduce spending</span></span></li>\n	<li><span style="font-family:calibri\,sans-serif"><span style="font-size:12.0pt">How to identify an ideal spending plan </span></span></li>\n	<li><span style="font-family:calibri\,sans-serif"><span style="font-size:12.0pt">And more!</span></span></li>\n</ol>\n&nbsp\;<br />\n<span style="font-family:aptos\,sans-serif"><span style="font-size:11.0pt">This is our continuous drive to help People on their road to Financial Stability.</span></span><br />\n<span style="font-family:calibri\,sans-serif"><span style="font-size:12.0pt">Attendees may visit <a href="https://www.nihfcu.org/learn/">nihfcu.org/Learn</a> to RSVP. It will be presented by our financial literacy partner\, <a href="https://www.nihfcu.org/financial-wellness-center/#knowledge-is-power">GreenPath Financial Wellness.</a></span></span><br />\n<br />\n&nbsp\;
LOCATION:
UID:e.797.24737
SEQUENCE:3
DTSTAMP:20260423T224850Z
URL:https://business.rockvillechamber.org/events/details/spend-less-save-more-free-webinar-24737
END:VEVENT

END:VCALENDAR
