BEGIN:VCALENDAR
VERSION:2.0
PRODID:-//ChamberMaster//Event Calendar 2.0//EN
METHOD:PUBLISH
X-PUBLISHED-TTL:P3D
REFRESH-INTERVAL:P3D
CALSCALE:GREGORIAN
BEGIN:VEVENT
DTSTART:20250220T230000Z
DTEND:20250221T020000Z
X-MICROSOFT-CDO-ALLDAYEVENT:FALSE
SUMMARY:Smart\, Subtle\, Stunning: Perfecting Your Home's Lighting Experience
DESCRIPTION:Lighting is one of the most powerful yet subtle elements of your home. And now\, technology is enhancing the lighting and lifestyle of homeowners everywhere. Join us for a free workshop to discover how smart lighting can bring added convenience\, safety\, and comfort to your everyday life.\n\n\n\nEnjoy light refreshments as we explore wired and wireless lighting options to beautifully accent your art collection\, illuminate task areas\, and enhance outdoor spaces. Learn how to control your lights remotely\, schedule lighting routines\, and personalize settings for every member of your family. Come see firsthand how an intelligent lighting control system can make your home more functional and stunning than ever.
X-ALT-DESC;FMTTYPE=text/html:<p><span style="background-color:transparent\; color:rgb(0\, 0\, 0)\; font-family:montserrat\,sans-serif\; font-size:10pt">Lighting is one of the most powerful yet subtle elements of your home. And now\, technology is enhancing the lighting and lifestyle of homeowners everywhere. Join us for a free workshop to discover how smart lighting can bring added convenience\, safety\, and comfort to your everyday life.</span><br />\n<br />\n<span style="background-color:transparent\; color:rgb(0\, 0\, 0)\; font-family:montserrat\,sans-serif\; font-size:10pt">Enjoy light refreshments as we explore wired and wireless lighting options to beautifully accent your art collection\, illuminate task areas\, and enhance outdoor spaces. Learn how to control your lights remotely\, schedule lighting routines\, and personalize settings for every member of your family. Come see firsthand how an intelligent lighting control system can make your home more functional and stunning than ever.</span></p>\n\n<div>&nbsp\;</div>\n\n<p>&nbsp\;</p>\n
LOCATION:House to Home Solutions\, 15745 Crabbs Branch Way\, Rockville\, MD 20855
UID:e.797.24700
SEQUENCE:3
DTSTAMP:20260423T205251Z
URL:https://business.rockvillechamber.org/events/details/smart-subtle-stunning-perfecting-your-home-s-lighting-experience-24700
END:VEVENT

END:VCALENDAR
