BEGIN:VCALENDAR
VERSION:2.0
PRODID:-//ChamberMaster//Event Calendar 2.0//EN
METHOD:PUBLISH
X-PUBLISHED-TTL:P3D
REFRESH-INTERVAL:P3D
CALSCALE:GREGORIAN
BEGIN:VEVENT
DTSTART;VALUE=DATE:20230715
DTEND;VALUE=DATE:20230716
TRANSP:TRANSPARENT
X-MICROSOFT-CDO-ALLDAYEVENT:TRUE
SUMMARY:Shred Day - Lafayette Federal Credit Union
DESCRIPTION:Lafayette Federal Credit Union is hosting a FREE community shred day.\n\n\n\nJoin for a chance to win a $400 gift card\, light breakfast\, family games and more.
X-ALT-DESC;FMTTYPE=text/html:Lafayette Federal Credit Union is hosting a FREE community shred day.<br />\n<br />\nJoin for a chance to win a $400 gift card\, light breakfast\, family games and more.
LOCATION:Lafayette Federal Credit Union Tower Oaks Branch Rockville
UID:e.797.18214
SEQUENCE:3
DTSTAMP:20260422T123315Z
URL:https://business.rockvillechamber.org/events/details/shred-day-lafayette-federal-credit-union-18214
END:VEVENT

END:VCALENDAR
