BEGIN:VCALENDAR
VERSION:2.0
PRODID:-//ChamberMaster//Event Calendar 2.0//EN
METHOD:PUBLISH
X-PUBLISHED-TTL:P3D
REFRESH-INTERVAL:P3D
CALSCALE:GREGORIAN
BEGIN:VEVENT
DTSTART:20210901T133000Z
DTEND:20210901T143000Z
X-MICROSOFT-CDO-ALLDAYEVENT:FALSE
SUMMARY:Senior Healthcare Mastermind Group 2021
DESCRIPTION:The Rockville Chamber is excited to host a senior/healthcare focused mastermind group.  Join us each month to talk about issues impacting the senior/healthcare community and how best to do business in today's market.\n\n \nDo you know how to break the ice with your family so you can address some of the most common issues that are difficult to discuss: going to the doctor for a diagnosis or medical treatment\, deciding when to stop driving\, and making legal and financial plans for future care?\n\nTune in tomorrow at 9:30am as we continue our 6 part Alzheimer's education series with Sheila Griffith\, Program Manager for the Alzheimer's Association National Capital Area chapter\, covering Montgomery County\, Prince George's County\, Southern Maryland\, Washington DC and N. Virginia.\n\nThis series is so relevant right now after the country shut down because cognitive impairment really affects so many people SO\, I have opened up this series to non-Rockville Chamber members. \n\n \n\n\nMay 5- Healthy Living for your Brain and Body\n\nJune 2- Understanding Alzheimer's and Dementia\n\n\nJuly 7- The 10 Warning Signs of Alzheimer's\n\nAugust 4- Effective Communication Strategies\n\nSeptember 1- Dementia Conversations: Doctors visits\, driving\, legal and financial \n\nOctober 6-  Understanding and Responding to Dementia-Related Behaviors \n\n \n\nIn case you missed any of our earlier presentations\, they are available to watch on the Rockville Chamber's Youtube channel.
X-ALT-DESC;FMTTYPE=text/html:The Rockville Chamber is excited to host a senior/healthcare focused mastermind group. &nbsp\;Join us each month to talk about issues impacting the senior/healthcare community and how best to do business in today&#39\;s market.<br />\n&nbsp\;\n<div style="color:rgb(34\, 34\, 34)\;font-family:Arial\, Helvetica\, sans-serif\;font-size:small\;"><span style="font-family:arial\,sans-serif\;">Do you know how to break the ice with your family so you can address some of the most common issues that are difficult to discuss: going to the doctor for a diagnosis or medical treatment\, deciding when to stop driving\, and making legal and financial plans for future care?</span><br />\n<span style="font-family:arial\,sans-serif\;">Tune in tomorrow at 9:30am as we continue our 6 part Alzheimer&#39\;s education series with Sheila Griffith\,&nbsp\;Program Manager for the&nbsp\;<strong>Alzheimer&#39\;s Association National Capital Area</strong>&nbsp\;chapter\, covering Montgomery County\, Prince George&#39\;s County\, Southern Maryland\, Washington DC and N. Virginia.</span></div>\n\n<div style="color:rgb(34\, 34\, 34)\;font-family:Arial\, Helvetica\, sans-serif\;font-size:small\;"><span style="font-family:arial\,sans-serif\;">This series is so relevant right now after the country shut down because cognitive impairment really affects so many people SO\, I have opened up this series to non-Rockville Chamber members.&nbsp\;</span></div>\n\n<div style="color:rgb(34\, 34\, 34)\;font-family:Arial\, Helvetica\, sans-serif\;font-size:small\;">&nbsp\;</div>\n\n<div style="color:rgb(34\, 34\, 34)\;font-family:Arial\, Helvetica\, sans-serif\;font-size:small\;">\n<div><span style="font-family:arial\,sans-serif\;">May 5-&nbsp\;Healthy Living for your Brain and Body</span></div>\n\n<div><span style="font-family:arial\,sans-serif\;">June 2- Understanding Alzheimer&#39\;s and Dementia</span></div>\n</div>\n\n<div style="color:rgb(34\, 34\, 34)\;font-family:Arial\, Helvetica\, sans-serif\;font-size:small\;"><span style="font-family:arial\,sans-serif\;">July 7- The 10 Warning Signs of Alzheimer&#39\;s</span></div>\n\n<div style="color:rgb(34\, 34\, 34)\;font-family:Arial\, Helvetica\, sans-serif\;font-size:small\;"><span style="font-family:arial\,sans-serif\;">August 4- Effective Communication Strategies</span></div>\n\n<div style="color:rgb(34\, 34\, 34)\;font-family:Arial\, Helvetica\, sans-serif\;font-size:small\;"><strong><em><u><span style="font-family:arial\,sans-serif\;">September 1- Dementia Conversations: Doctors visits\, driving\, legal and financial&nbsp\;</span></u></em></strong></div>\n\n<div style="color:rgb(34\, 34\, 34)\;font-family:Arial\, Helvetica\, sans-serif\;font-size:small\;"><span style="font-family:arial\,sans-serif\;">October 6-&nbsp\; Understanding and Responding to Dementia-Related Behaviors&nbsp\;</span></div>\n\n<div style="color:rgb(34\, 34\, 34)\;font-family:Arial\, Helvetica\, sans-serif\;font-size:small\;">&nbsp\;</div>\n\n<div style="color:rgb(34\, 34\, 34)\;font-family:Arial\, Helvetica\, sans-serif\;font-size:small\;"><span style="font-family:arial\,sans-serif\;">In case you missed any of our earlier presentations\, they are available to watch on the Rockville Chamber&#39\;s Youtube&nbsp\;channel.</span></div>\n
LOCATION:ZOOM
UID:e.797.14736
SEQUENCE:3
DTSTAMP:20260425T155758Z
URL:https://business.rockvillechamber.org/events/details/senior-healthcare-mastermind-group-2021-09-01-2021-14736
END:VEVENT

END:VCALENDAR
