BEGIN:VCALENDAR
VERSION:2.0
PRODID:-//ChamberMaster//Event Calendar 2.0//EN
METHOD:PUBLISH
X-PUBLISHED-TTL:P3D
REFRESH-INTERVAL:P3D
CALSCALE:GREGORIAN
BEGIN:VEVENT
DTSTART:20250528T143000Z
DTEND:20250528T170000Z
X-MICROSOFT-CDO-ALLDAYEVENT:FALSE
SUMMARY:Senior Health Fair
DESCRIPTION:Rockville Senior Center celebrates senior wellness at the annual Senior Health Fair. Stop by the Assisting Hands Potomac table and learn more about Home Care options for post surgery\, dementia care and other challenges that require professional support.
X-ALT-DESC;FMTTYPE=text/html:<span style="background-color:rgb(255\, 254\, 254)\; color:rgb(6\, 18\, 34)\; font-family:jost\,sans-serif\; font-size:20px">Rockville Senior Center celebrates senior wellness at the annual Senior Health Fair. Stop by the Assisting Hands Potomac table and learn more about Home Care options for post surgery\, dementia care and other challenges that require professional support.</span>
LOCATION:1150 Carnation Drive\, Rockville\, MD 20850
UID:e.797.25426
SEQUENCE:3
DTSTAMP:20260423T205502Z
URL:https://business.rockvillechamber.org/events/details/senior-health-fair-25426
END:VEVENT

END:VCALENDAR
