BEGIN:VCALENDAR
VERSION:2.0
PRODID:-//ChamberMaster//Event Calendar 2.0//EN
METHOD:PUBLISH
X-PUBLISHED-TTL:P3D
REFRESH-INTERVAL:P3D
CALSCALE:GREGORIAN
BEGIN:VEVENT
DTSTART:20210412T140000Z
DTEND:20210412T150000Z
X-MICROSOFT-CDO-ALLDAYEVENT:FALSE
SUMMARY:SBA Update with Roderick Johnson
DESCRIPTION:Join Roderick Johnson from the Small Business Administration for an hour long webinar to discuss updates to the COVID-19 recovery package.
X-ALT-DESC;FMTTYPE=text/html:<span style="font-family: arial\; font-size: 14.4px\;">Join Roderick Johnson from the Small Business Administration for an hour long webinar to discuss updates to the COVID-19 recovery package.</span>
LOCATION:ZOOM
UID:e.797.15455
SEQUENCE:3
DTSTAMP:20260420T045327Z
URL:https://business.rockvillechamber.org/events/details/sba-update-with-roderick-johnson-15455
END:VEVENT

END:VCALENDAR
