BEGIN:VCALENDAR
VERSION:2.0
PRODID:-//ChamberMaster//Event Calendar 2.0//EN
METHOD:PUBLISH
X-PUBLISHED-TTL:P3D
REFRESH-INTERVAL:P3D
CALSCALE:GREGORIAN
BEGIN:VEVENT
DTSTART:20230501T190000Z
DTEND:20230501T200000Z
X-MICROSOFT-CDO-ALLDAYEVENT:FALSE
SUMMARY:Ribbon Cutting - Paris Baguette
DESCRIPTION:Paris Baguette is a company that provides a unique experience to customers by introducing a new trend-setting bakery and caf .\n\n\n\nFor 68 years\, they have been refining their philosophy and techniques in the kitchen thanks to their parent company\, SPC Group.\n\n\n\nTheir journey thus far has been a rewarding endeavor as they innovate fresh concepts and offer a brand-new\, unique experience for you and with you.
X-ALT-DESC;FMTTYPE=text/html:<div class="x11i5rnm xat24cr x1mh8g0r x1vvkbs xdj266r" style="margin: 0px\; overflow-wrap: break-word\; font-family: &quot\;Segoe UI Historic&quot\;\, &quot\;Segoe UI&quot\;\, Helvetica\, Arial\, sans-serif\; color: rgb(5\, 5\, 5)\; font-size: 15px\;">\n<div dir="auto" style="font-family: inherit\;">Paris Baguette is&nbsp\;a company that provides a unique experience to customers by introducing a new trend-setting bakery and caf&eacute\;.</div>\n</div>\n\n<div class="x11i5rnm xat24cr x1mh8g0r x1vvkbs xtlvy1s" style="margin: 0.5em 0px 0px\; overflow-wrap: break-word\; font-family: &quot\;Segoe UI Historic&quot\;\, &quot\;Segoe UI&quot\;\, Helvetica\, Arial\, sans-serif\; color: rgb(5\, 5\, 5)\; font-size: 15px\;">\n<div dir="auto" style="font-family: inherit\;">For 68 years\, they&nbsp\;have been refining their philosophy and techniques in the kitchen thanks to their parent company\, SPC Group.</div>\n</div>\n\n<div class="x11i5rnm xat24cr x1mh8g0r x1vvkbs xtlvy1s" style="margin: 0.5em 0px 0px\; overflow-wrap: break-word\; font-family: &quot\;Segoe UI Historic&quot\;\, &quot\;Segoe UI&quot\;\, Helvetica\, Arial\, sans-serif\; color: rgb(5\, 5\, 5)\; font-size: 15px\;">\n<div dir="auto" style="font-family: inherit\;">Their journey thus far has been a rewarding endeavor as they&nbsp\;innovate fresh concepts and offer a brand-new\, unique experience for you and with you.</div>\n</div>\n
LOCATION:101 Gibbs St Unit A Rockville\, MD 20850
UID:e.797.16944
SEQUENCE:3
DTSTAMP:20260422T105342Z
URL:https://business.rockvillechamber.org/events/details/ribbon-cutting-paris-baguette-16944
END:VEVENT

END:VCALENDAR
