BEGIN:VCALENDAR
VERSION:2.0
PRODID:-//ChamberMaster//Event Calendar 2.0//EN
METHOD:PUBLISH
X-PUBLISHED-TTL:P3D
REFRESH-INTERVAL:P3D
CALSCALE:GREGORIAN
BEGIN:VEVENT
DTSTART:20230726T200000Z
DTEND:20230726T203000Z
X-MICROSOFT-CDO-ALLDAYEVENT:FALSE
SUMMARY:Ribbon Cutting - KW Capital Properties
DESCRIPTION:Keller Williams Capital Properties and the Greater Rockville Chamber of Commerce invites you to attend the Ribbon Cutting Ceremony being held on 7/26/2023 at 4:00 pm.\n\n\n\nKeller Williams Capital Properties is a diverse team of more than 1\,000 passionate professionals redefining the real estate industry with a mission to transform lives\, careers\, and communities through real estate. \n\n\n\nTheir agents are empowered to build and grow businesses and are committed to providing outstanding client service and results that make a difference in the communities they serve.  They are supported by the partnership of Keller Williams - the largest most innovate network of real estate professionals in the world.
X-ALT-DESC;FMTTYPE=text/html:Keller Williams Capital Properties and the Greater Rockville Chamber of Commerce invites you to attend the Ribbon Cutting Ceremony being held on 7/26/2023 at 4:00 pm.<br />\n<br />\nKeller Williams Capital Properties is a diverse team of more than 1\,000 passionate professionals redefining the real estate industry with a mission to transform lives\, careers\, and communities through real estate.&nbsp\;<br />\n<br />\nTheir agents are empowered to build and grow businesses and are committed to providing outstanding client service and results that make a difference in the communities they serve.&nbsp\; They are supported by the partnership of Keller Williams - the largest most innovate network of real estate professionals in the world.&nbsp\;&nbsp\;<br />\n<br />\n&nbsp\;
LOCATION:KW Capital Properties 1 Church St Suite 101 Rockville\, MD 20850
UID:e.797.18820
SEQUENCE:3
DTSTAMP:20260422T123145Z
URL:https://business.rockvillechamber.org/events/details/ribbon-cutting-kw-capital-properties-18820
END:VEVENT

END:VCALENDAR
