BEGIN:VCALENDAR
VERSION:2.0
PRODID:-//ChamberMaster//Event Calendar 2.0//EN
METHOD:PUBLISH
X-PUBLISHED-TTL:P3D
REFRESH-INTERVAL:P3D
CALSCALE:GREGORIAN
BEGIN:VEVENT
DTSTART:20230519T134500Z
DTEND:20230519T141500Z
X-MICROSOFT-CDO-ALLDAYEVENT:FALSE
SUMMARY:Ribbon Cutting - Golfdom
DESCRIPTION:Please join the GRCC and Golfdom for their ribbon cutting ceremony.\n\n\n\nWorldwide Golf Shops serves as the parent company to some of the most established golf retail stores in the United States. Founded more than 50 years ago\, Worldwide Golf Shops now operates 7 retail store brands with over 80 golf specialty stores across the country. Our fully trained and highly knowledgeable associates are second to none in service and expertise. We provide the information\, guidance\, and support you need to enjoy the game more\, and play better golf. Our website serves as the online portal for our retail store brands\, offering an easy and convenient way to find products from the top manufacturers and brands in all of golf. At Worldwide Golf Shops we are active golfers who play the game and love the game\, just like you. We look forward to assisting you with all of your golf needs.
X-ALT-DESC;FMTTYPE=text/html:<span style="font-size:14px\;"><span style="font-family:arial\;"><span style="letter-spacing: -0.2px\; background-color: rgb(248\, 248\, 248)\;">Please join the GRCC and Golfdom for their ribbon cutting ceremony.<br />\n<br />\nWorldwide Golf Shops serves as the parent company to some of the most established golf retail stores in the United States. Founded more than 50 years ago\, Worldwide Golf Shops now operates 7 retail store brands with over 80 golf specialty stores across the country. Our fully trained and highly knowledgeable associates are second to none in service and expertise. We provide the information\, guidance\, and support you need to enjoy the game more\, and play better golf. Our website serves as the online portal for our retail store brands\, offering an easy and convenient way to find products from the top manufacturers and brands in all of golf. At Worldwide Golf Shops we are active golfers who play the game and love the game\, just like you. We look forward to assisting you with all of your golf needs.</span></span></span>
LOCATION:GOLFDOM 12137-B Rockville Pike Rockville
UID:e.797.16948
SEQUENCE:3
DTSTAMP:20260422T090240Z
URL:https://business.rockvillechamber.org/events/details/ribbon-cutting-golfdom-16948
END:VEVENT

END:VCALENDAR
