BEGIN:VCALENDAR
VERSION:2.0
PRODID:-//ChamberMaster//Event Calendar 2.0//EN
METHOD:PUBLISH
X-PUBLISHED-TTL:P3D
REFRESH-INTERVAL:P3D
CALSCALE:GREGORIAN
BEGIN:VEVENT
DTSTART:20230911T200000Z
DTEND:20230911T210000Z
X-MICROSOFT-CDO-ALLDAYEVENT:FALSE
SUMMARY:Ribbon Cutting Ceremony at Therapeutique Salon Spa
DESCRIPTION:The Greater Rockville Chamber of Commerce and Therapeutique Salon and Spa invite you to the Ribbon Cutting Ceremony on September 11th.  \n\n\n\nTherapeutique (THere pyooTeek) Salon and Spa welcomes you to their eco-friendly\, technology-driven luxury environment. Creating a healthy working atmosphere for artistic beauty professionals who are thriving for growth\, education\, and opportunities. They believe in leading with a high-end level of culture and professionalism. That will lead them into advance exposure to the community and industry. Saving our environment around us\, creating change within us\, and providing a therapeutic service for everyone!
X-ALT-DESC;FMTTYPE=text/html:<span style="font-size:14px\;"><span style="font-family:arial\;">The Greater Rockville Chamber of Commerce and Therapeutique Salon and Spa invite you to the Ribbon Cutting Ceremony on September 11th.&nbsp\;&nbsp\;<br />\n<br />\n<span style="color: rgb(34\, 34\, 34)\; text-align: center\;">Therapeutique (THere pyooTeek) Salon and Spa welcomes you to their eco-friendly\, technology-driven luxury environment. Creating a healthy working atmosphere for artistic beauty professionals who are thriving for growth\, education\, and opportunities. They believe in leading with a high-end level of culture and professionalism. That will lead them into advance exposure to the community and industry. Saving our environment around us\, creating change within us\, and providing a therapeutic service for everyone!</span></span></span>
LOCATION:Therapeutique Salon Spoa 1401 Rockville Pike Suite 105 Rockville\, MD 20852
UID:e.797.18867
SEQUENCE:3
DTSTAMP:20260422T181832Z
URL:https://business.rockvillechamber.org/events/details/ribbon-cutting-ceremony-at-therapeutique-salon-spa-18867
END:VEVENT

END:VCALENDAR
