BEGIN:VCALENDAR
VERSION:2.0
PRODID:-//ChamberMaster//Event Calendar 2.0//EN
METHOD:PUBLISH
X-PUBLISHED-TTL:P3D
REFRESH-INTERVAL:P3D
CALSCALE:GREGORIAN
BEGIN:VEVENT
DTSTART:20230516T150000Z
DTEND:20230516T160000Z
X-MICROSOFT-CDO-ALLDAYEVENT:FALSE
SUMMARY:Ribbon Cutting - Care Plus
DESCRIPTION:Please join the Greater Rockville Chamber of Commerce and CarePlus for a ribbon-cutting ceremony.  The event will take place on May 16\, 2023\, at their 7361 Calhoun Place\, Unit 301 location.  \n \n\nCarePlus aims to provide professional\, compassionate care to individuals\, while maintaining their independence and quality of life\, in their home or community settings.  They were the Best of Bethesda Readers' Pick\, Top Vote Getter\, for Best In-Home Health Care Provider in 2022.
X-ALT-DESC;FMTTYPE=text/html:Please join the Greater Rockville Chamber of Commerce and CarePlus for a ribbon-cutting ceremony.&nbsp\; The event will take place on May 16\, 2023\, at their 7361 Calhoun Place\, Unit 301 location.&nbsp\;&nbsp\;\n<div>&nbsp\;</div>\n\n<div>CarePlus aims to provide professional\, compassionate care to individuals\, while maintaining their independence and quality of life\, in their home or community settings.&nbsp\; They were the Best of Bethesda Readers&#39\; Pick\, Top&nbsp\;Vote Getter\, for Best In-Home Health Care Provider in 2022.</div>\n
LOCATION:7361 Calhoun Place Rockville\, MD 20855
UID:e.797.16947
SEQUENCE:3
DTSTAMP:20260422T090311Z
URL:https://business.rockvillechamber.org/events/details/ribbon-cutting-care-plus-16947
END:VEVENT

END:VCALENDAR
