BEGIN:VCALENDAR
VERSION:2.0
PRODID:-//ChamberMaster//Event Calendar 2.0//EN
METHOD:PUBLISH
X-PUBLISHED-TTL:P3D
REFRESH-INTERVAL:P3D
CALSCALE:GREGORIAN
BEGIN:VEVENT
DTSTART:20230515T200000Z
DTEND:20230515T230000Z
X-MICROSOFT-CDO-ALLDAYEVENT:FALSE
SUMMARY:Ribbon Cutting - Best Western Premier Rockville
DESCRIPTION:BEST WESTERN PREMIER ROCKVILLE \n\nGRAND OPENING AND RIBBON CUTTING\n\nMay 15\, 2023 \n\n4:00 - 7:00 PM\n\n1251 W Montgomery Ave.Rockville\, MD 20850\n\n \n\nJoin the Greater Rockville Chamber of Commerce as we celebrate the NEW Best Western PREMIER Rockville. This is a wonderful opportunity to network and tour this beautiful newly renovated hotel.
X-ALT-DESC;FMTTYPE=text/html:<h1 style="margin: 0px\; font-family: Arial\, Verdana\, Helvetica\, sans-serif\; color: rgb(113\, 122\, 128)\; font-size: 26px\; font-weight: bold\; white-space: pre-wrap\; background-color: rgb(253\, 251\, 226)\; text-align: center\;"><span style="font-size: 20px\; color: rgb(0\, 0\, 0)\;">BEST WESTERN PREMIER ROCKVILLE </span></h1>\n\n<h1 style="margin: 0px\; font-family: Arial\, Verdana\, Helvetica\, sans-serif\; color: rgb(113\, 122\, 128)\; font-size: 26px\; font-weight: bold\; white-space: pre-wrap\; background-color: rgb(253\, 251\, 226)\; text-align: center\;"><span style="font-size: 20px\; color: rgb(0\, 0\, 0)\;">GRAND OPENING AND RIBBON CUTTING</span></h1>\n\n<p style="margin: 0px\; padding: 0px\; color: rgb(64\, 63\, 66)\; font-family: Arial\, Verdana\, Helvetica\, sans-serif\; font-size: 12px\; white-space: pre-wrap\; background-color: rgb(253\, 251\, 226)\; text-align: center\;"><span style="font-size: 16px\; color: rgb(20\, 20\, 20)\;">May 15\, 2023&nbsp\;</span></p>\n\n<p style="margin: 0px\; padding: 0px\; color: rgb(64\, 63\, 66)\; font-family: Arial\, Verdana\, Helvetica\, sans-serif\; font-size: 12px\; white-space: pre-wrap\; background-color: rgb(253\, 251\, 226)\; text-align: center\;"><span style="font-size: 16px\; color: rgb(20\, 20\, 20)\;">4:00 - 7:00 PM</span></p>\n\n<p style="margin: 0px\; padding: 0px\; color: rgb(64\, 63\, 66)\; font-family: Arial\, Verdana\, Helvetica\, sans-serif\; font-size: 12px\; white-space: pre-wrap\; background-color: rgb(253\, 251\, 226)\; text-align: center\;"><span style="font-size: 16px\; color: rgb(32\, 33\, 36)\;">1251 W Montgomery Ave.Rockville\, MD 20850</span></p>\n\n<p style="margin: 0px\; padding: 0px\; color: rgb(64\, 63\, 66)\; font-family: Arial\, Verdana\, Helvetica\, sans-serif\; font-size: 12px\; white-space: pre-wrap\; background-color: rgb(253\, 251\, 226)\; text-align: center\;">&nbsp\;</p>\n\n<p style="margin: 0px\; padding: 0px\; color: rgb(64\, 63\, 66)\; font-family: Arial\, Verdana\, Helvetica\, sans-serif\; font-size: 12px\; white-space: pre-wrap\; background-color: rgb(253\, 251\, 226)\; text-align: center\;"><span style="font-size: 16px\; color: rgb(32\, 33\, 36)\;">Join the Greater Rockville Chamber of Commerce as we celebrate the </span><span style="font-size: 16px\; color: rgb(32\, 33\, 36)\; font-style: italic\;">NEW</span><span style="font-size: 16px\; color: rgb(32\, 33\, 36)\;"> Best Western </span><span style="font-size: 16px\; color: rgb(32\, 33\, 36)\; font-style: italic\;">PREMIER</span><span style="font-size: 16px\; color: rgb(32\, 33\, 36)\;"> Rockville. This is a wonderful opportunity to network and tour this beautiful newly renovated hotel. </span></p>\n
LOCATION:Best Western Premier Rockville 1251 W Montgomery Ave. Rockville\, MD 20850
UID:e.797.16931
SEQUENCE:3
DTSTAMP:20260422T090936Z
URL:https://business.rockvillechamber.org/events/details/ribbon-cutting-best-western-premier-rockville-16931
END:VEVENT

END:VCALENDAR
