BEGIN:VCALENDAR
VERSION:2.0
PRODID:-//ChamberMaster//Event Calendar 2.0//EN
METHOD:PUBLISH
X-PUBLISHED-TTL:P3D
REFRESH-INTERVAL:P3D
CALSCALE:GREGORIAN
BEGIN:VEVENT
DTSTART:20250530T220000Z
DTEND:20250530T230000Z
X-MICROSOFT-CDO-ALLDAYEVENT:FALSE
SUMMARY:Ribbon Cutting at Silver Branch Brewing
DESCRIPTION:Celebrate the grand opening of Silver Branch Rockville Beerworks from Friday\, May 30th to Sunday\, June 1st at 7301 Calhoun Place.\n\n \n \n\nFriday: Get $6 Dr. Juicy IPA and Glass Castle PIlsner at the first ever Happy Hour (Friday only)! Don't miss the Ribbon Cutting Ceremony at 6 PM with Rockville delegates and co-founders Christian & Brett\, then stay for Live Music from New Passengers at 7pm. \n \n\nSaturday: Party in the back lot with the Silver Branch Bierwagen! Enjoy a live DJ starting at 3 PM\, games\, and prizes. Visit the host booth (12 PM - 6 PM) for info on upcoming events and more. Play cornhole\, get a temporary tattoo\, and grab food from Chef Uriel's taco tent. \n\n \n\nSunday: Silver Branch partners with Hyper Kidz to bring a day of family fun with face painting (12 PM - 3 PM)\, arts & crafts\, and FREE ice cream for kids under 10. \n\n \n\nPlus\, try something from the taproom menu  including wings\, nachos\, and pretzels\, as well as a selection of craft cocktails\, wine\, cider and more. See you there!
X-ALT-DESC;FMTTYPE=text/html:<div font-size:="" helvetica="" line-height:="" style="color: rgb(34\, 34\, 34)\; font-family: "><span style="font-size: 18px\;"><strong><span color:="" lucida="" sans="" style="font-family: " trebuchet="">Celebrate the grand opening of Silver Branch&nbsp\;Rockville&nbsp\;Beerworks from Friday\, May 30th to Sunday\, June 1st at&nbsp\;<a data-saferedirecturl="https://www.google.com/url?q=https://www.google.com/maps/search/7301%2BCalhoun%2BPlace?entry%3Dgmail%26source%3Dg&amp\;source=gmail&amp\;ust=1747939389724000&amp\;usg=AOvVaw1CfpKqT5qCf5_4tK92eDNh" href="https://www.google.com/maps/search/7301+Calhoun+Place?entry=gmail&amp\;source=g" style="color: rgb(17\, 85\, 204)\;" target="_blank">7301 Calhoun Place</a>.</span></strong></span></div>\n\n<div font-size:="" helvetica="" line-height:="" style="color: rgb(34\, 34\, 34)\; font-family: ">&nbsp\;</div>\n&nbsp\;\n\n<div font-size:="" helvetica="" line-height:="" style="color: rgb(34\, 34\, 34)\; font-family: "><span lucida="" sans="" style="font-family: " trebuchet=""><strong><span style="font-size: 15px\; color: rgb(0\, 0\, 0)\;">Friday:</span></strong><span style="font-size: 15px\; color: rgb(0\, 0\, 0)\;">&nbsp\;Get $6 Dr. Juicy IPA and Glass Castle PIlsner at the first ever Happy Hour (Friday only)! Don&#39\;t miss the Ribbon Cutting Ceremony at 6 PM with Rockville delegates and co-founders Christian &amp\; Brett\, then stay for Live Music from New Passengers at 7pm.&nbsp\;</span></span></div>\n&nbsp\;\n\n<div font-size:="" helvetica="" line-height:="" style="color: rgb(34\, 34\, 34)\; font-family: "><span lucida="" sans="" style="font-family: " trebuchet=""><strong><span style="font-size: 15px\; color: rgb(0\, 0\, 0)\;">Saturday:&nbsp\;</span></strong><span style="font-size: 15px\; color: rgb(0\, 0\, 0)\;">Party in the back lot with the Silver Branch&nbsp\;<i>Bierwagen</i>! Enjoy a live DJ starting at 3 PM\, games\, and prizes. Visit the host booth (12 PM - 6 PM) for info on upcoming events and more. Play cornhole\, get a temporary tattoo\, and grab food from Chef Uriel&#39\;s taco tent.</span></span><span style="color: rgb(51\, 51\, 51)\;">&nbsp\;</span></div>\n\n<div font-size:="" helvetica="" line-height:="" style="color: rgb(34\, 34\, 34)\; font-family: ">&nbsp\;</div>\n\n<div font-size:="" helvetica="" line-height:="" style="color: rgb(34\, 34\, 34)\; font-family: "><span lucida="" sans="" style="font-family: " trebuchet=""><span style="font-size: 15px\; color: rgb(0\, 0\, 0)\;"><strong>Sunday</strong>:</span><span style="font-size: 15px\; color: rgb(0\, 0\, 0)\;">&nbsp\;Silver Branch partners with Hyper Kidz to bring a day of family fun with face painting (12 PM - 3 PM)\, arts &amp\; crafts\, and FREE ice cream for kids under 10.</span></span><span style="color: rgb(51\, 51\, 51)\;">&nbsp\;</span></div>\n\n<div font-size:="" helvetica="" line-height:="" style="color: rgb(34\, 34\, 34)\; font-family: ">&nbsp\;</div>\n\n<div font-size:="" helvetica="" line-height:="" style="color: rgb(34\, 34\, 34)\; font-family: "><span color:="" lucida="" sans="" style="font-size: 15px\; font-family: " trebuchet="">Plus\, try something from the taproom menu&mdash\; including wings\, nachos\, and pretzels\, as well as a selection of craft cocktails\,&nbsp\;wine\, cider and more. S</span><span font-size:="" letter-spacing:="" lucida="" sans="" style="color: rgb(0\, 0\, 0)\; font-family: " trebuchet="">ee you there!</span></div>\n
LOCATION:7301 Calhoun Place Derwood\, MD
UID:e.797.25399
SEQUENCE:3
DTSTAMP:20260423T205555Z
URL:https://business.rockvillechamber.org/events/details/ribbon-cutting-at-silver-branch-brewing-25399
END:VEVENT

END:VCALENDAR
