BEGIN:VCALENDAR
VERSION:2.0
PRODID:-//ChamberMaster//Event Calendar 2.0//EN
METHOD:PUBLISH
X-PUBLISHED-TTL:P3D
REFRESH-INTERVAL:P3D
CALSCALE:GREGORIAN
BEGIN:VEVENT
DTSTART:20250604T203000Z
DTEND:20250604T213000Z
X-MICROSOFT-CDO-ALLDAYEVENT:FALSE
SUMMARY:Ribbon Cutting at Salon Revive
DESCRIPTION:You're Invited to the Ribbon Cutting Ceremony at Salon Revive!\n\nJoin us as we celebrate the grand opening of Salon Revive with a special ribbon cutting event! Be among the first to tour our beautiful new space\, enjoy light refreshments\, and take home a goody bag featuring exclusive Aveda products.\n\nWe'll also be giving away some of our signature services throughout the event don't miss your chance to win! Bottled water and soft drinks will be available\, and we may even raise a glass with a little wine to toast the occasion.\n\nWe look forward to welcoming you and sharing this exciting moment with our community!
X-ALT-DESC;FMTTYPE=text/html:<p data-end="196" data-start="130"><strong data-end="196" data-start="130">You&#39\;re Invited to the Ribbon Cutting Ceremony at Salon Revive!</strong></p>\n\n<p data-end="433" data-start="198">Join us as we celebrate the grand opening of Salon Revive with a special ribbon cutting event! Be among the first to tour our beautiful new space\, enjoy light refreshments\, and take home a goody bag featuring exclusive Aveda products.</p>\n\n<p data-end="664" data-start="435">We&#39\;ll also be giving away some of our signature services throughout the event&mdash\;don&rsquo\;t miss your chance to win! Bottled water and soft drinks will be available\, and we may even raise a glass with a little wine to toast the occasion.</p>\n\n<p data-end="751" data-start="666">We look forward to welcoming you and sharing this exciting moment with our community!</p>\n
LOCATION:14929-F Shady Grove Rd
UID:e.797.25405
SEQUENCE:3
DTSTAMP:20260423T225400Z
URL:https://business.rockvillechamber.org/events/details/ribbon-cutting-at-salon-revive-25405
END:VEVENT

END:VCALENDAR
