BEGIN:VCALENDAR
VERSION:2.0
PRODID:-//ChamberMaster//Event Calendar 2.0//EN
METHOD:PUBLISH
X-PUBLISHED-TTL:P3D
REFRESH-INTERVAL:P3D
CALSCALE:GREGORIAN
BEGIN:VEVENT
DTSTART:20250612T160000Z
DTEND:20250612T170000Z
X-MICROSOFT-CDO-ALLDAYEVENT:FALSE
SUMMARY:Ribbon Cutting at Prime IV Hydration
DESCRIPTION:
X-ALT-DESC;FMTTYPE=text/html:
LOCATION:1319 Rockville Pike Suite D
UID:e.797.25404
SEQUENCE:3
DTSTAMP:20260423T225238Z
URL:https://business.rockvillechamber.org/events/details/ribbon-cutting-at-prime-iv-hydration-25404
END:VEVENT

END:VCALENDAR
