BEGIN:VCALENDAR
VERSION:2.0
PRODID:-//ChamberMaster//Event Calendar 2.0//EN
METHOD:PUBLISH
X-PUBLISHED-TTL:P3D
REFRESH-INTERVAL:P3D
CALSCALE:GREGORIAN
BEGIN:VEVENT
DTSTART:20230711T190000Z
DTEND:20230711T220000Z
X-MICROSOFT-CDO-ALLDAYEVENT:FALSE
SUMMARY:Ribbon Cutting at Origin AI
DESCRIPTION:Join us for the Ribbon-Cutting Ceremony at Origin AI.  \n\n\n\nOrigin is revolutionizing what Wi-Fi can do. As the pioneer of Wi-Fi Sensing AI\, Origin aims to improve people's lives with its technology. Its patented and award-winning applications enable companies to build a wide range of Wi-Fi smart home\, health\, well-being\, and automotive applications with high performance\, low cost\, and ease of use.
X-ALT-DESC;FMTTYPE=text/html:<span style="font-size:14px\;"><span style="font-family:arial\;">Join us for the Ribbon-Cutting Ceremony at Origin AI.&nbsp\;&nbsp\;<br />\n<br />\n<span style="color: rgba(0\, 0\, 0\, 0.9)\; white-space: pre-line\;">Origin is revolutionizing what Wi-Fi can do. As the pioneer of Wi-Fi Sensing AI\, Origin aims to improve people&#39\;s lives with its technology. Its patented and award-winning applications enable companies to build a wide range of Wi-Fi smart home\, health\, well-being\, and automotive applications with high performance\, low cost\, and ease of use.</span></span></span><br />\n&nbsp\;
LOCATION:2600 Tower Oaks Blvd Suite 300 Rockville\, MD 20852
UID:e.797.16969
SEQUENCE:3
DTSTAMP:20260422T122813Z
URL:https://business.rockvillechamber.org/events/details/ribbon-cutting-at-origin-ai-16969
END:VEVENT

END:VCALENDAR
