BEGIN:VCALENDAR
VERSION:2.0
PRODID:-//ChamberMaster//Event Calendar 2.0//EN
METHOD:PUBLISH
X-PUBLISHED-TTL:P3D
REFRESH-INTERVAL:P3D
CALSCALE:GREGORIAN
BEGIN:VEVENT
DTSTART:20250429T200000Z
DTEND:20250429T210000Z
X-MICROSOFT-CDO-ALLDAYEVENT:FALSE
SUMMARY:Ribbon Cutting at Montgomery County Green Bank
DESCRIPTION:Join us and the Rockville Chamber of Commerce in celebrating DC Climate Week with a ribbon cutting ceremony for our new office\, followed by an evening of networking and connection among the climate community. Come explore our new office\, meet like-minded professionals\, and engage in inspiring conversations about sustainability and climate action.\n\nLight refreshments will be provided. We look forward to seeing you there!\n\n \n\nParking Garage Procedures for Guests:\n\nStep 1: At the call box located next to the booth\, please select "directory."\n\nStep 2: Choose suite number 400.\n\nStep 3: You will be buzzed into the garage and will be given a unique number to access the elevator lobby doors on P1 or P2. The special code will only work for P1 and P2.\n\n \n\nReminder: Please do not park in assigned parking spaces.
X-ALT-DESC;FMTTYPE=text/html:<p helvetica="" neue="" style="margin: 0px\; padding: 0px\; box-sizing: border-box\; font-size: 16px\; line-height: 1.5rem\; color: rgb(111\, 114\, 135)\; font-family: "><span style="color:#000000\;"><span style="font-size:14px\;"><span style="font-family:arial\;">Join us and the Rockville Chamber of Commerce in celebrating DC Climate Week with a ribbon cutting ceremony for our new office\, followed by an evening of networking and connection among the climate community. Come explore our new office\, meet like-minded professionals\, and engage in inspiring conversations about sustainability and climate action.</span></span></span></p>\n\n<p helvetica="" neue="" style="margin: 0px\; padding: 10px 0px 0px\; box-sizing: border-box\; font-size: 16px\; line-height: 1.5rem\; color: rgb(111\, 114\, 135)\; font-family: "><span style="color:#000000\;"><span style="font-size:14px\;"><span style="font-family:arial\;">Light refreshments will be provided. We look forward to seeing you there!</span></span></span></p>\n\n<p helvetica="" neue="" style="margin: 0px\; padding: 10px 0px 0px\; box-sizing: border-box\; font-size: 16px\; line-height: 1.5rem\; color: rgb(111\, 114\, 135)\; font-family: ">&nbsp\;</p>\n\n<p helvetica="" neue="" style="margin: 0px\; padding: 10px 0px 0px\; box-sizing: border-box\; font-size: 16px\; line-height: 1.5rem\; color: rgb(111\, 114\, 135)\; font-family: "><span style="color:#000000\;"><span style="font-size:14px\;"><span style="font-family:arial\;"><span style="font-weight: 700\; box-sizing: border-box\; padding-top: 0px\;">Parking Garage Procedures for Guests:</span></span></span></span></p>\n\n<p helvetica="" neue="" style="margin: 0px\; padding: 10px 0px 0px\; box-sizing: border-box\; font-size: 16px\; line-height: 1.5rem\; color: rgb(111\, 114\, 135)\; font-family: "><span style="color:#000000\;"><span style="font-size:14px\;"><span style="font-family:arial\;">Step 1: At the call box located next to the booth\, please select &ldquo\;directory.&rdquo\;</span></span></span></p>\n\n<p helvetica="" neue="" style="margin: 0px\; padding: 10px 0px 0px\; box-sizing: border-box\; font-size: 16px\; line-height: 1.5rem\; color: rgb(111\, 114\, 135)\; font-family: "><span style="color:#000000\;"><span style="font-size:14px\;"><span style="font-family:arial\;">Step 2: Choose suite number 400.</span></span></span></p>\n\n<p helvetica="" neue="" style="margin: 0px\; padding: 10px 0px 0px\; box-sizing: border-box\; font-size: 16px\; line-height: 1.5rem\; color: rgb(111\, 114\, 135)\; font-family: "><span style="color:#000000\;"><span style="font-size:14px\;"><span style="font-family:arial\;">Step 3: You will be buzzed into the garage and will be given a unique number to access the elevator lobby doors on P1 or P2. The special code will only work for P1 and P2.</span></span></span></p>\n\n<p helvetica="" neue="" style="margin: 0px\; padding: 10px 0px 0px\; box-sizing: border-box\; font-size: 16px\; line-height: 1.5rem\; color: rgb(111\, 114\, 135)\; font-family: ">&nbsp\;</p>\n\n<p helvetica="" neue="" style="margin: 0px\; padding: 10px 0px 0px\; box-sizing: border-box\; font-size: 16px\; line-height: 1.5rem\; color: rgb(111\, 114\, 135)\; font-family: "><span style="color:#000000\;"><span style="font-size:14px\;"><span style="font-family:arial\;"><em style="box-sizing: border-box\; padding-top: 0px\;">Reminder: Please do not park in assigned parking spaces.</em></span></span></span></p>\n
LOCATION:21 Church Street First Floor Conference Room Rockville\, MD 20850
UID:e.797.24927
SEQUENCE:3
DTSTAMP:20260423T205802Z
URL:https://business.rockvillechamber.org/events/details/ribbon-cutting-at-montgomery-county-green-bank-24927
END:VEVENT

END:VCALENDAR
