BEGIN:VCALENDAR
VERSION:2.0
PRODID:-//ChamberMaster//Event Calendar 2.0//EN
METHOD:PUBLISH
X-PUBLISHED-TTL:P3D
REFRESH-INTERVAL:P3D
CALSCALE:GREGORIAN
BEGIN:VEVENT
DTSTART:20230311T180000Z
DTEND:20230311T190000Z
X-MICROSOFT-CDO-ALLDAYEVENT:FALSE
SUMMARY:Ribbon Cutting at Lil ' Cakes and Creamery
DESCRIPTION:Lil' Cakes and Creamery loves creating palatable sweets guaranteed to put a smile on your face! They know that everyone loves the classic flavors\, but they take it one step further and aim to create limitless flavors that work cohesively with their cupcakes\, custom cakes\, ice cream\, cookies\, cake pops\, macarons\, and even dog treats!\n\n\n\nJoin us on March 11th at 1:00 pm to celebrate Lil' Cakes and Creamery and welcome them to the Greater Rockville Chamber of Commerce.  We look forward to seeing you there.
X-ALT-DESC;FMTTYPE=text/html:Lil&#39\; Cakes and Creamery loves creating palatable sweets guaranteed to put a smile on your face! They know that everyone loves the classic flavors\, but they take it one step further and aim to create limitless flavors that work cohesively with their cupcakes\, custom cakes\, ice cream\, cookies\, cake pops\, macarons\, and even dog treats!<br />\n<br />\nJoin us on March 11th at 1:00 pm to celebrate Lil&#39\; Cakes and Creamery and welcome them to the Greater Rockville Chamber of Commerce.&nbsp\; We look forward to seeing you there.&nbsp\;<br />\n&nbsp\;
LOCATION:844 Rockville Pike Rockville\, MD 20852
UID:e.797.16925
SEQUENCE:3
DTSTAMP:20260422T142409Z
URL:https://business.rockvillechamber.org/events/details/ribbon-cutting-at-lil-cakes-and-creamery-16925
END:VEVENT

END:VCALENDAR
