BEGIN:VCALENDAR
VERSION:2.0
PRODID:-//ChamberMaster//Event Calendar 2.0//EN
METHOD:PUBLISH
X-PUBLISHED-TTL:P3D
REFRESH-INTERVAL:P3D
CALSCALE:GREGORIAN
BEGIN:VEVENT
DTSTART:20210902T210000Z
DTEND:20210902T220000Z
X-MICROSOFT-CDO-ALLDAYEVENT:FALSE
SUMMARY:Ribbon Cutting at Edward Jones\, Laura Nash
DESCRIPTION:Join us for a ribbon cutting ceremony at Edward Jones - Financial Advisor: Laura Nash
X-ALT-DESC;FMTTYPE=text/html:Join us for a ribbon cutting ceremony at Edward Jones - Financial Advisor: Laura Nash&nbsp\;
LOCATION:11200 Rockville Pike Suite 210 Rockville\, MD 20852
UID:e.797.15838
SEQUENCE:3
DTSTAMP:20260425T160023Z
URL:https://business.rockvillechamber.org/events/details/ribbon-cutting-at-edward-jones-laura-nash-15838
END:VEVENT

END:VCALENDAR
