BEGIN:VCALENDAR
VERSION:2.0
PRODID:-//ChamberMaster//Event Calendar 2.0//EN
METHOD:PUBLISH
X-PUBLISHED-TTL:P3D
REFRESH-INTERVAL:P3D
CALSCALE:GREGORIAN
BEGIN:VEVENT
DTSTART:20230926T203000Z
DTEND:20230926T213000Z
X-MICROSOFT-CDO-ALLDAYEVENT:FALSE
SUMMARY:Ribbon Cutting at Dill Dinkers - North Bethesda
DESCRIPTION:Dill Dinkers' purpose is to bring people together in the community by offering a year-round venue dedicated to the sport of Pickleball. They aspire to create an atmosphere that inspires fun\, learning\, healthy competition\, and lifelong friendships.
X-ALT-DESC;FMTTYPE=text/html:<span style="color: rgb(34\, 34\, 34)\; font-family: Arial\, Helvetica\, sans-serif\; font-size: small\;">Dill Dinkers&#39\; purpose is to bring people together in the community by offering a year-round venue dedicated to the sport of Pickleball. They aspire to create an atmosphere that inspires fun\, learning\, healthy competition\, and lifelong friendships.&nbsp\;</span>
LOCATION:Dill Dinkers Pickleball 4942 Boiling Brook Pkwy North Bethesda\, MD 20852
UID:e.797.18832
SEQUENCE:3
DTSTAMP:20260422T181838Z
URL:https://business.rockvillechamber.org/events/details/ribbon-cutting-at-dill-dinkers-north-bethesda-18832
END:VEVENT

END:VCALENDAR
