BEGIN:VCALENDAR
VERSION:2.0
PRODID:-//ChamberMaster//Event Calendar 2.0//EN
METHOD:PUBLISH
X-PUBLISHED-TTL:P3D
REFRESH-INTERVAL:P3D
CALSCALE:GREGORIAN
BEGIN:VEVENT
DTSTART:20230914T180000Z
DTEND:20230914T190000Z
X-MICROSOFT-CDO-ALLDAYEVENT:FALSE
SUMMARY:Ribbon Cutting at Custom Ink
DESCRIPTION:Join the Greater Rockville Chamber of Commerce and Custom Ink at their Ribbon Cutting Ceremony on Sept 14th at 2:00 pm.\n\n\n\nAt Custom Ink\, we take custom apparel seriously. From custom t-shirts to hoodies\, hats\, and more\, we can't wait to help make whatever you're dreaming up a reality. With Custom Ink\, you can bring your own logo or artwork\, or simply come to us with your big idea! If you're in the Rockville\, Maryland area\, check out our location off Congressional Lane. One of our dedicated sales reps is ready to walk you through every step of the order process. Make an appointment to visit our local screen printer\, check out products\, and perfect your order in person! You can find us off Rockville Pike around the corner from Starbucks. We're open from 10am to 6pm daily book your appointment today!
X-ALT-DESC;FMTTYPE=text/html:<p><span style="font-size:14px\;"><span style="font-family:arial\;">Join the Greater Rockville Chamber of Commerce and Custom Ink at their Ribbon Cutting Ceremony on Sept 14th at 2:00 pm.<br />\n<br />\n<span font-size:="" sans="" segoe="" source="" style="color: rgb(55\, 58\, 60)\; font-family: " text-align:="">At Custom Ink\, we take custom apparel seriously. From custom t-shirts to hoodies\, hats\, and more\, we can&rsquo\;t wait to help make whatever you&rsquo\;re dreaming up a reality. With Custom Ink\, you can bring your own logo or artwork\, or simply come to us with your big idea! If you&rsquo\;re in the Rockville\, Maryland area\, check out our location off Congressional Lane. One of our dedicated sales reps is ready to walk you through every step of the order process. Make an appointment to visit our local screen printer\, check out products\, and perfect your order in person! You can find us off Rockville Pike around the corner from Starbucks. We&#39\;re open from 10am to 6pm daily&mdash\;book your appointment today!</span></span></span></p>\n<br />\n&nbsp\;
LOCATION:Custom Ink 1617 Rockville Pike Rockville\, MD 20852
UID:e.797.18868
SEQUENCE:3
DTSTAMP:20260422T162542Z
URL:https://business.rockvillechamber.org/events/details/ribbon-cutting-at-custom-ink-18868
END:VEVENT

END:VCALENDAR
