BEGIN:VCALENDAR
VERSION:2.0
PRODID:-//ChamberMaster//Event Calendar 2.0//EN
METHOD:PUBLISH
X-PUBLISHED-TTL:P3D
REFRESH-INTERVAL:P3D
CALSCALE:GREGORIAN
BEGIN:VEVENT
DTSTART:20250626T160000Z
DTEND:20250626T170000Z
X-MICROSOFT-CDO-ALLDAYEVENT:FALSE
SUMMARY:Ribbon Cutting at Anchor Point Acupuncture
DESCRIPTION:At Anchor Point\, we believe healing begins with being heard. We are proud to open our doors to the community and to those who have supported us along the way. This event is a moment of gratitude\, connection\, and new beginnings   and we would be honored by your presence.\n\nJoin us for light refreshments\, a guided tour of our clinic\, and the opportunity to connect with fellow Chamber members and local leaders.\n\nThank you for being part of the vibrant Rockville community. We look forward to celebrating this special day with you.
X-ALT-DESC;FMTTYPE=text/html:<p style="color: rgb(34\, 34\, 34)\; font-family: Arial\, Helvetica\, sans-serif\; font-size: small\;">At Anchor Point\, we believe healing begins with being heard. We are proud to open our doors to the community and to those who have supported us along the way. This event is a moment of gratitude\, connection\, and new beginnings &mdash\; and we would be honored by your presence.</p>\n\n<p style="color: rgb(34\, 34\, 34)\; font-family: Arial\, Helvetica\, sans-serif\; font-size: small\;">Join us for light refreshments\, a guided tour of our clinic\, and the opportunity to connect with fellow Chamber members and local leaders.</p>\n\n<p style="color: rgb(34\, 34\, 34)\; font-family: Arial\, Helvetica\, sans-serif\; font-size: small\;">Thank you for being part of the vibrant Rockville community. We look forward to celebrating this special day with you.</p>\n
LOCATION:1801 Research Blvd Suite 605 Rockville\, MD 20850
UID:e.797.25453
SEQUENCE:3
DTSTAMP:20260423T225454Z
URL:https://business.rockvillechamber.org/events/details/ribbon-cutting-at-anchor-point-acupuncture-25453
END:VEVENT

END:VCALENDAR
