BEGIN:VCALENDAR
VERSION:2.0
PRODID:-//ChamberMaster//Event Calendar 2.0//EN
METHOD:PUBLISH
X-PUBLISHED-TTL:P3D
REFRESH-INTERVAL:P3D
CALSCALE:GREGORIAN
BEGIN:VEVENT
DTSTART:20210913T214500Z
DTEND:20210914T000000Z
X-MICROSOFT-CDO-ALLDAYEVENT:FALSE
SUMMARY:Remembering Lives Lost to Opioid Addiction
DESCRIPTION:The Mayor and Council will gather outside City Hall with elected and appointed leaders from across the region\, Monday\, Sept. 13\, to remember lives lost to opioid addiction.\n\nThe program will begin at 5:45 p.m. and feature a keynote address by Montgomery County Circuit Court Associate Judge Debra L. Dwyer. Information and resources tables will offer assistance from local organizations\, starting at 5 p.m.
X-ALT-DESC;FMTTYPE=text/html:<p id="isPasted" style="box-sizing: border-box\; margin-top: 0px\; margin-bottom: 1.4em\; border: 0px none\; color: rgb(76\, 76\, 76)\; font-family: sans-serif\; font-size: 14.4px\;">The Mayor and Council will&nbsp\;<a href="https://mailchi.mp/bc9f0214676d/rockville-to-remember-lives-lost-to-opioid-epidemic" style="box-sizing: border-box\; color: rgb(84\, 115\, 115)\;">gather outside City Hall with elected and appointed leaders</a>&nbsp\;from across the region\, Monday\, Sept. 13\,&nbsp\;<span style="box-sizing: border-box\; font-weight: 700\;">to remember lives lost to opioid addiction</span>.</p>\n\n<p style="box-sizing: border-box\; margin-top: 0px\; margin-bottom: 1.4em\; border: 0px none\; color: rgb(76\, 76\, 76)\; font-family: sans-serif\; font-size: 14.4px\;"><span style="box-sizing: border-box\; margin: 0px\; padding: 0px\; border: 0px\; font-weight: inherit\; font-style: inherit\; font-size: 14.4px\; font-family: inherit\; vertical-align: baseline\; outline: 0px\;">The program will begin at&nbsp\;<span style="box-sizing: border-box\; font-weight: 700\;">5:45 p.m.</span>&nbsp\;and feature a keynote address by Montgomery County Circuit Court Associate Judge Debra L. Dwyer.&nbsp\;</span><span style="box-sizing: border-box\; margin: 0px\; padding: 0px\; border: 0px\; font-weight: inherit\; font-style: inherit\; font-size: 14.4px\; font-family: inherit\; vertical-align: baseline\; outline: 0px\;">Information and resources tables will offer assistance from local organizations\, starting at 5 p.m.</span></p>\n
LOCATION:Outside City Hall
UID:e.797.15890
SEQUENCE:3
DTSTAMP:20260425T153755Z
URL:https://business.rockvillechamber.org/events/details/remembering-lives-lost-to-opioid-addiction-15890
END:VEVENT

END:VCALENDAR
