BEGIN:VCALENDAR
VERSION:2.0
PRODID:-//ChamberMaster//Event Calendar 2.0//EN
METHOD:PUBLISH
X-PUBLISHED-TTL:P3D
REFRESH-INTERVAL:P3D
CALSCALE:GREGORIAN
BEGIN:VEVENT
DTSTART:20260429T153000Z
DTEND:20260429T163000Z
X-MICROSOFT-CDO-ALLDAYEVENT:FALSE
SUMMARY:Make your Employee Onboarding More Effective - A 1-Hour Virtual Workshop
DESCRIPTION:Make your Employee Onboarding more effective. The average employee onboarding consists of 45 activities! With the workforce exiting at rapid pace\, AI standards changing daily and staff unskilled for what's coming\, it's hard to attract and retain top talent.\n\nThis is a virtual workshop to consider how to bridge the generations in the workforce and to see how Virtual Reality (VR)  for onboarding and upskilling may be an option. This includes immersive onboarding\, leadership skill development\, customer service training and more. Participants will consider gaps in their workforce and the critical skills they need to plan for the future.  \n\nExplore how VR can reduce your onboarding time and costs\, increase your onboarding effectiveness and accelerate your team's performance. As you experience Lead Live Learn's immersive catalog of Leadership Training\, consider the questions: Where is your workforce headed? What do they need to be successful? How can you help them ramp up production (and satisfaction) from the get-go?\n\nThis is a workshop for the Virtual Reality (VR) curious leader who knows change is coming and wants to excite and engage their talent in the era of AI.\n\nThis 1-hour session is intended to expand your thinking on how you can adapt\, and at scale. Let new hires experience their office before they set foot in it.
X-ALT-DESC;FMTTYPE=text/html:<p><span style="font-size:16px"><code><tt><span style="color:rgb(30\, 30\, 30)\; font-family:human sans\,arial\,helvetica\,sans-serif">Make your Employee Onboarding more effective. The average employee onboarding consists of 45 activities! With the workforce exiting at rapid pace\, AI standards changing daily and staff unskilled for what&rsquo\;s coming\, it&rsquo\;s hard to attract and retain top talent.</span></tt></code></span></p>\n\n<p><span style="font-size:16px"><code><tt><span style="color:inherit">This is a virtual workshop to consider how to bridge the generations in the workforce and to see how Virtual Reality (VR)&nbsp\; for onboarding and upskilling may be an option. This includes immersive onboarding\, leadership skill development\, customer service training and more. Participants will consider gaps in their workforce and the critical skills they need to plan for the future.&nbsp\;</span><span style="color:inherit">&nbsp\;</span></tt></code></span></p>\n\n<p><span style="font-size:16px"><code><tt>Explore how VR can reduce your onboarding time and costs\, increase your onboarding effectiveness and accelerate your team&rsquo\;s performance. As you experience Lead Live Learn&rsquo\;s immersive catalog of Leadership Training\, consider the questions: Where is your workforce headed? What do they need to be successful? How can you help them ramp up production (and satisfaction) from the get-go?</tt></code></span></p>\n\n<p><span style="font-size:16px"><code><tt>This is a workshop for the Virtual Reality (VR) curious leader who knows change is coming and wants to excite and engage their talent in the era of AI.</tt></code></span></p>\n\n<p><span style="font-size:16px"><code><tt>This 1-hour session is intended to expand your thinking on how you can adapt\, and at scale. Let new hires experience their office before they set foot in it.</tt></code></span></p>\n
LOCATION:Virtual\, Zoom
UID:e.797.26244
SEQUENCE:3
DTSTAMP:20260426T015800Z
URL:https://business.rockvillechamber.org/events/details/refresh-your-employee-onboarding-experience-a-1-hour-workshop-26244
END:VEVENT

END:VCALENDAR
